BEGIN:VCALENDAR
VERSION:2.0
PRODID:-//Nonahood News - ECPv6.6.0.2//NONSGML v1.0//EN
CALSCALE:GREGORIAN
METHOD:PUBLISH
X-ORIGINAL-URL:https://nonahoodnews.com
X-WR-CALDESC:Events for Nonahood News
REFRESH-INTERVAL;VALUE=DURATION:PT1H
X-Robots-Tag:noindex
X-PUBLISHED-TTL:PT1H
BEGIN:VTIMEZONE
TZID:America/New_York
BEGIN:DAYLIGHT
TZOFFSETFROM:-0500
TZOFFSETTO:-0400
TZNAME:EDT
DTSTART:20220313T070000
END:DAYLIGHT
BEGIN:STANDARD
TZOFFSETFROM:-0400
TZOFFSETTO:-0500
TZNAME:EST
DTSTART:20221106T060000
END:STANDARD
END:VTIMEZONE
BEGIN:VEVENT
DTSTART;TZID=America/New_York:20221008T180000
DTEND;TZID=America/New_York:20221008T230000
DTSTAMP:20260419T120906
CREATED:20220913T135834Z
LAST-MODIFIED:20220913T135834Z
UID:50886-1665252000-1665270000@nonahoodnews.com
SUMMARY:Join us for our Gala! Night with Nemours - Taste of France
DESCRIPTION:Venez nous rejoindre (Come join us!)\, Saturday\, October 8\, 2022\,  for a night of dinner\, desert\, and dancing to Stratosphere and a mind-blowing performance by Oz Pearlman of Oz Knows – all for an extraordinary cause. You are cordially invited to join us for the 10th Night with Nemours – Taste of France benefiting Nemours Children’s Fund for Innovation and Clinical Excellence. This gala for good — at the exquisitely renovated Caribe Royale Orlando — is the can’t-miss social event of the season. \nRSVP BY – September 30\, 2022\n\nShare this:\n				Share on Facebook (Opens in new window)\n				Facebook\n			\n				Share on LinkedIn (Opens in new window)\n				LinkedIn\n			\n				Share on Pinterest (Opens in new window)\n				Pinterest\n			\n				Email a link to a friend (Opens in new window)\n				Email\n			Like this:Like Loading...
URL:https://nonahoodnews.com/event/join-us-gala-night-nemours-taste-france/
LOCATION:Caribe Royale\, 8101 World Centre\, Orlando\, FL\, 32821\, United States
ATTACH;FMTTYPE=image/jpeg:https://nonahoodnews.com/wp-content/uploads/2022/09/fl_website_header_05122022_jpg-1652455913_large.jpeg
END:VEVENT
END:VCALENDAR