BEGIN:VCALENDAR
VERSION:2.0
PRODID:-//Nonahood News - ECPv6.6.0.2//NONSGML v1.0//EN
CALSCALE:GREGORIAN
METHOD:PUBLISH
X-WR-CALNAME:Nonahood News
X-ORIGINAL-URL:https://nonahoodnews.com
X-WR-CALDESC:Events for Nonahood News
REFRESH-INTERVAL;VALUE=DURATION:PT1H
X-Robots-Tag:noindex
X-PUBLISHED-TTL:PT1H
BEGIN:VTIMEZONE
TZID:America/New_York
BEGIN:DAYLIGHT
TZOFFSETFROM:-0500
TZOFFSETTO:-0400
TZNAME:EDT
DTSTART:20220313T070000
END:DAYLIGHT
BEGIN:STANDARD
TZOFFSETFROM:-0400
TZOFFSETTO:-0500
TZNAME:EST
DTSTART:20221106T060000
END:STANDARD
END:VTIMEZONE
BEGIN:VEVENT
DTSTART;TZID=America/New_York:20220815T113000
DTEND;TZID=America/New_York:20220815T130000
DTSTAMP:20260419T140413
CREATED:20220811T132027Z
LAST-MODIFIED:20220811T132027Z
UID:50570-1660563000-1660568400@nonahoodnews.com
SUMMARY:Nona Professional Ladies Group - Taxes\, the Dos and Don’ts for Business Owners and Individuals
DESCRIPTION:Goals:\nConnect and network at the Nona Professional Ladies Luncheons to give attendees the opportunity to cultivate relationships with peers while also learning from empowering speakers on topics relative to the needs of women. Topics include health issues that are prevalent in women\, success in male-dominated industries\, business solutions\, leadership topics\, personal branding\, local community non-profits\, female governmental leaders\, sales techniques\, finance decisions\, legal business decisions\, PR marketing and more! \n  \nhttps://lakenonacc.chambermaster.com/eventregistration/register/15465 \nShare this:\n				Share on Facebook (Opens in new window)\n				Facebook\n			\n				Share on LinkedIn (Opens in new window)\n				LinkedIn\n			\n				Share on Pinterest (Opens in new window)\n				Pinterest\n			\n				Email a link to a friend (Opens in new window)\n				Email\n			Like this:Like Loading...
URL:https://nonahoodnews.com/event/nona-professional-ladies-group-taxes-dos-donts-business-owners-individuals/
LOCATION:XL Soccer World\, 12314 Suttner Ave\, Orlando\, FL\, 32827\, United States
ATTACH;FMTTYPE=image/png:https://nonahoodnews.com/wp-content/uploads/2022/05/Nona-Professional-Ladies-Logo-1.png
END:VEVENT
END:VCALENDAR