BEGIN:VCALENDAR
VERSION:2.0
PRODID:-//Nonahood News - ECPv6.6.0.2//NONSGML v1.0//EN
CALSCALE:GREGORIAN
METHOD:PUBLISH
X-WR-CALNAME:Nonahood News
X-ORIGINAL-URL:https://nonahoodnews.com
X-WR-CALDESC:Events for Nonahood News
REFRESH-INTERVAL;VALUE=DURATION:PT1H
X-Robots-Tag:noindex
X-PUBLISHED-TTL:PT1H
BEGIN:VTIMEZONE
TZID:America/New_York
BEGIN:DAYLIGHT
TZOFFSETFROM:-0500
TZOFFSETTO:-0400
TZNAME:EDT
DTSTART:20230312T070000
END:DAYLIGHT
BEGIN:STANDARD
TZOFFSETFROM:-0400
TZOFFSETTO:-0500
TZNAME:EST
DTSTART:20231105T060000
END:STANDARD
END:VTIMEZONE
BEGIN:VEVENT
DTSTART;TZID=America/New_York:20230509T110000
DTEND;TZID=America/New_York:20230509T120000
DTSTAMP:20260423T114310
CREATED:20230503T161021Z
LAST-MODIFIED:20230503T161021Z
UID:52836-1683630000-1683633600@nonahoodnews.com
SUMMARY:Education Committee Meeting
DESCRIPTION:This monthly meeting will be held in person at Guidewell by Board Chair Stuart Gutter ( American Balloon Decor). The Education Committee will discuss current plans\, updates\, and strategies on how to better interconnect our Chamber with the local Education community. \nShare this:\n				Share on Facebook (Opens in new window)\n				Facebook\n			\n				Share on LinkedIn (Opens in new window)\n				LinkedIn\n			\n				Share on Pinterest (Opens in new window)\n				Pinterest\n			\n				Email a link to a friend (Opens in new window)\n				Email\n			Like this:Like Loading...
URL:https://nonahoodnews.com/event/education-committee-meeting-8/
LOCATION:GuideWell Innovation Center\, 6555 Sanger Road\, 1st Floor\, FL\, United States
ATTACH;FMTTYPE=image/jpeg:https://nonahoodnews.com/wp-content/uploads/2023/05/2023-Committee-Meeting.jpeg
END:VEVENT
BEGIN:VEVENT
DTSTART;TZID=America/New_York:20230509T120000
DTEND;TZID=America/New_York:20230509T130000
DTSTAMP:20260423T114310
CREATED:20230503T161200Z
LAST-MODIFIED:20230503T161200Z
UID:52841-1683633600-1683637200@nonahoodnews.com
SUMMARY:Nonprofit Committee Meeting
DESCRIPTION:Join the Nonprofit Committee by registering in the MIC \nvia Zoom \nShare this:\n				Share on Facebook (Opens in new window)\n				Facebook\n			\n				Share on LinkedIn (Opens in new window)\n				LinkedIn\n			\n				Share on Pinterest (Opens in new window)\n				Pinterest\n			\n				Email a link to a friend (Opens in new window)\n				Email\n			Like this:Like Loading...
URL:https://nonahoodnews.com/event/nonprofit-committee-meeting-8/
ATTACH;FMTTYPE=image/jpeg:https://nonahoodnews.com/wp-content/uploads/2023/05/2023-Committee-Meeting.jpeg
END:VEVENT
BEGIN:VEVENT
DTSTART;TZID=America/New_York:20230510T163000
DTEND;TZID=America/New_York:20230510T173000
DTSTAMP:20260423T114310
CREATED:20230503T161323Z
LAST-MODIFIED:20230503T161323Z
UID:52843-1683736200-1683739800@nonahoodnews.com
SUMMARY:Membership Committee
DESCRIPTION:Meets 2nd Wednesdays at 4:30 p.m. via Zoom \nShare this:\n				Share on Facebook (Opens in new window)\n				Facebook\n			\n				Share on LinkedIn (Opens in new window)\n				LinkedIn\n			\n				Share on Pinterest (Opens in new window)\n				Pinterest\n			\n				Email a link to a friend (Opens in new window)\n				Email\n			Like this:Like Loading...
URL:https://nonahoodnews.com/event/membership-committee-3/
ATTACH;FMTTYPE=image/jpeg:https://nonahoodnews.com/wp-content/uploads/2023/05/2023-Committee-Meeting.jpeg
END:VEVENT
BEGIN:VEVENT
DTSTART;TZID=America/New_York:20230511T080000
DTEND;TZID=America/New_York:20230511T213000
DTSTAMP:20260423T114310
CREATED:20230503T161515Z
LAST-MODIFIED:20230503T161515Z
UID:52845-1683792000-1683840600@nonahoodnews.com
SUMMARY:2023 Breakfast Connections - Health Committee Panel Discussion: Orthopedic Health
DESCRIPTION:Speakers and topics covered include:  \n-Pallavi Cherukupally\, MD with Regenerative Sport Spine and Spa – topic “Stem Cell Therapy and the Spine”\n​-Brittany L. Lambie\, MD\, FAAOS with UCF Lake Nona – topic “When should I see a spine surgeon?”\n-​Vonda Wright\, MD\, MS\, FAOA with Hughston Clinic Orthopaedics – topic “Peak Performance and Optimal Health from the Backyard to the Boardroom”​\n-Anita Vijapura\, MD with Rothman Orthopedics and AdventHealth – topic “Spine Health”\nShare this:\n				Share on Facebook (Opens in new window)\n				Facebook\n			\n				Share on LinkedIn (Opens in new window)\n				LinkedIn\n			\n				Share on Pinterest (Opens in new window)\n				Pinterest\n			\n				Email a link to a friend (Opens in new window)\n				Email\n			Like this:Like Loading...
URL:https://nonahoodnews.com/event/2023-breakfast-connections-health-committee-panel-discussion-orthopedic-health/
LOCATION:Valencia College Lake Nona Campus\, 12350 Narcoossee Rd\, Orlando\, FL\, 32832\, United States
ATTACH;FMTTYPE=image/jpeg:https://nonahoodnews.com/wp-content/uploads/2023/05/2023-Breakfast-Connections.jpeg
END:VEVENT
BEGIN:VEVENT
DTSTART;TZID=America/New_York:20230515T163000
DTEND;TZID=America/New_York:20230515T180000
DTSTAMP:20260423T114310
CREATED:20230503T161635Z
LAST-MODIFIED:20230503T161635Z
UID:52848-1684168200-1684173600@nonahoodnews.com
SUMMARY:Economic Development and Innovation Committee Meeting
DESCRIPTION:Join our Committee in the MIC \n\n\n\n\n\n\nShare this:\n				Share on Facebook (Opens in new window)\n				Facebook\n			\n				Share on LinkedIn (Opens in new window)\n				LinkedIn\n			\n				Share on Pinterest (Opens in new window)\n				Pinterest\n			\n				Email a link to a friend (Opens in new window)\n				Email\n			Like this:Like Loading...
URL:https://nonahoodnews.com/event/economic-development-innovation-committee-meeting-4/
LOCATION:Beep Headquarters\, United States
ATTACH;FMTTYPE=image/jpeg:https://nonahoodnews.com/wp-content/uploads/2023/05/2023-Committee-Meeting.jpeg
END:VEVENT
BEGIN:VEVENT
DTSTART;TZID=America/New_York:20230516T173000
DTEND;TZID=America/New_York:20230516T190000
DTSTAMP:20260423T114310
CREATED:20230503T161803Z
LAST-MODIFIED:20230503T161803Z
UID:52851-1684258200-1684263600@nonahoodnews.com
SUMMARY:Young Professionals Group Meeting
DESCRIPTION:The purpose of the group is to create networking and educational opportunities for young professionals in the area. \nFree for Members and first time guests 40 and under. \nShare this:\n				Share on Facebook (Opens in new window)\n				Facebook\n			\n				Share on LinkedIn (Opens in new window)\n				LinkedIn\n			\n				Share on Pinterest (Opens in new window)\n				Pinterest\n			\n				Email a link to a friend (Opens in new window)\n				Email\n			Like this:Like Loading...
URL:https://nonahoodnews.com/event/young-professionals-group-meeting-7/
LOCATION:Lime Fresh Mexican Grill\, 13052 Narcoossee Rd\, Orlando\, 32832\, United States
ATTACH;FMTTYPE=image/png:https://nonahoodnews.com/wp-content/uploads/2023/05/Copy-of-YPG-logo.png
END:VEVENT
BEGIN:VEVENT
DTSTART;TZID=America/New_York:20230516T180000
DTEND;TZID=America/New_York:20230516T193000
DTSTAMP:20260423T114310
CREATED:20230502T165550Z
LAST-MODIFIED:20230502T165550Z
UID:52805-1684260000-1684265400@nonahoodnews.com
SUMMARY:NCAA: Lake Nona Nights\, Ladies Night (TU)
DESCRIPTION:Lake Nona Nights : Ladies Night \nTue\, May 16th\n\n6p – 7:30p\n\nPlay tennis\, meet up with friends\, shop\, enjoy food and drinks and free giveaways.\n\nFull event from 5:30pm – 8:30pm \nOn court tennis from 6:00pm – 7:30pm \n\nShare this:\n				Share on Facebook (Opens in new window)\n				Facebook\n			\n				Share on LinkedIn (Opens in new window)\n				LinkedIn\n			\n				Share on Pinterest (Opens in new window)\n				Pinterest\n			\n				Email a link to a friend (Opens in new window)\n				Email\n			Like this:Like Loading...
URL:https://nonahoodnews.com/event/ncaa-lake-nona-nights-ladies-night-tu/
LOCATION:USTA National Campus Lake Nona\, 10000 USTA Blvd\, Orlando\, FL\, 32827\, United States
ORGANIZER;CN="USTA National Campus":MAILTO:georgiana.brown@usta.com
END:VEVENT
BEGIN:VEVENT
DTSTART;TZID=America/New_York:20230517T173000
DTEND;TZID=America/New_York:20230517T203000
DTSTAMP:20260423T114310
CREATED:20230502T170018Z
LAST-MODIFIED:20230502T170018Z
UID:52807-1684344600-1684355400@nonahoodnews.com
SUMMARY:NCAA: Lake Nona Nights\, League Celebration - Cardio (WE)
DESCRIPTION:Lake Nona Nights : League Celebration\n\nGather your league to celebrate after tennis on campus with food\, drink\, and off court activities. \nFull event from 5:30pm – 8:30pm \nOn court tennis from 5:30pm – 6:30pm \n\nShare this:\n				Share on Facebook (Opens in new window)\n				Facebook\n			\n				Share on LinkedIn (Opens in new window)\n				LinkedIn\n			\n				Share on Pinterest (Opens in new window)\n				Pinterest\n			\n				Email a link to a friend (Opens in new window)\n				Email\n			Like this:Like Loading...
URL:https://nonahoodnews.com/event/ncaa-lake-nona-nights-league-celebration-cardio/
LOCATION:USTA National Campus Lake Nona\, 10000 USTA Blvd\, Orlando\, FL\, 32827\, United States
ORGANIZER;CN="USTA National Campus":MAILTO:georgiana.brown@usta.com
END:VEVENT
BEGIN:VEVENT
DTSTART;TZID=America/New_York:20230518T173000
DTEND;TZID=America/New_York:20230518T203000
DTSTAMP:20260423T114310
CREATED:20230502T170216Z
LAST-MODIFIED:20230502T170216Z
UID:52809-1684431000-1684441800@nonahoodnews.com
SUMMARY:NCAA: Lake Nona Nights\, Beats and Bites (TH)
DESCRIPTION:Lake Nona Nights : Beat & Bites\n\nDance on and off court while our DJ spins. Enjoy food\, drink and games! \nFull event from 5:30pm – 8:30pm \nOn court tennis from 5:30pm – 6:30pm \n\nShare this:\n				Share on Facebook (Opens in new window)\n				Facebook\n			\n				Share on LinkedIn (Opens in new window)\n				LinkedIn\n			\n				Share on Pinterest (Opens in new window)\n				Pinterest\n			\n				Email a link to a friend (Opens in new window)\n				Email\n			Like this:Like Loading...
URL:https://nonahoodnews.com/event/ncaa-lake-nona-nights-beats-bites-th/
LOCATION:USTA National Campus Lake Nona\, 10000 USTA Blvd\, Orlando\, FL\, 32827\, United States
ORGANIZER;CN="USTA National Campus":MAILTO:georgiana.brown@usta.com
END:VEVENT
BEGIN:VEVENT
DTSTART;TZID=America/New_York:20230522T113000
DTEND;TZID=America/New_York:20230522T130000
DTSTAMP:20260423T114310
CREATED:20230503T162100Z
LAST-MODIFIED:20230503T162100Z
UID:52854-1684755000-1684760400@nonahoodnews.com
SUMMARY:Nona Professional Ladies Group - Women Who Mean Business: Learn More About the Role Women Play in the Future of our Chamber
DESCRIPTION:Speaker: Brandy Bennett\nChairwoman of The Lake Nona Regional Chamber of Commerce\nJoin us in welcoming our Board Chair as she casts vision on the future of our Chamber as a whole\, shares opportunities for NPL attendees to get involved with the Chamber and introduces our new Executive Director\, Candy Cole.  We cordially invite guests to submit questions in advance for this event! Send your questions to nplchamber@gmail.com \n  \nBrandy Bennett is the Director of Membership of the Downtown Orlando Partnership. As a customer-focused professional with nearly 20 years of experience in the hospitality industry\, Brandy brings with her a truly hospitable approach to doing business and building relationships. \nBrandy has lived in Lake Nona since 2008 and has been active in the growth and development of the community. She shares her expertise and collaborates with other community builders in order to strengthen our city. She has served as an Ambassador\, the Director of Events and is currently the Board Chair for the Lake Nona Chamber of Commerce. She is an absolute champion for our City Beautiful and we are so excited to announce her as May’s Nona Professional Ladies guest speaker. \nShare this:\n				Share on Facebook (Opens in new window)\n				Facebook\n			\n				Share on LinkedIn (Opens in new window)\n				LinkedIn\n			\n				Share on Pinterest (Opens in new window)\n				Pinterest\n			\n				Email a link to a friend (Opens in new window)\n				Email\n			Like this:Like Loading...
URL:https://nonahoodnews.com/event/nona-professional-ladies-group-women-mean-business-learn-role-women-play-future-chamber/
LOCATION:Lake Nona Performance Club\, 6775 Chopra Terrace\, Orlando\, FL\, 32827\, United States
ATTACH;FMTTYPE=image/jpeg:https://nonahoodnews.com/wp-content/uploads/2023/05/2023-NPL.jpeg
END:VEVENT
BEGIN:VEVENT
DTSTART;TZID=America/New_York:20230527T133000
DTEND;TZID=America/New_York:20230527T170000
DTSTAMP:20260423T114310
CREATED:20230522T204811Z
LAST-MODIFIED:20230522T205248Z
UID:52914-1685194200-1685206800@nonahoodnews.com
SUMMARY:See a Live Performance & Meet the Cast of MusicClubKids!
DESCRIPTION:Join us for an Album Release Party at Nona Adventure Park this Saturday and Sunday! \nMusicClubKids a short-form scripted live action show in which fun adaptations of smash hit songs narrate each episode’s adventures in stories that inspire kids aged 5 to 12 laugh\, play\, and sing. \n  \nShare this:\n				Share on Facebook (Opens in new window)\n				Facebook\n			\n				Share on LinkedIn (Opens in new window)\n				LinkedIn\n			\n				Share on Pinterest (Opens in new window)\n				Pinterest\n			\n				Email a link to a friend (Opens in new window)\n				Email\n			Like this:Like Loading...
URL:https://nonahoodnews.com/event/see-live-performance-meet-case-musicclubkids/
LOCATION:Nona Adventure Park\, 14086 Centerline Drive\, Orlando\, Florida 32827\, Lake Nona\, 32827\, United States
ATTACH;FMTTYPE=image/png:https://nonahoodnews.com/wp-content/uploads/2023/05/NONA_PARK-FLYER_3sm.png
END:VEVENT
END:VCALENDAR