BEGIN:VCALENDAR
VERSION:2.0
PRODID:-//Nonahood News - ECPv6.6.0.2//NONSGML v1.0//EN
CALSCALE:GREGORIAN
METHOD:PUBLISH
X-ORIGINAL-URL:https://nonahoodnews.com
X-WR-CALDESC:Events for Nonahood News
REFRESH-INTERVAL;VALUE=DURATION:PT1H
X-Robots-Tag:noindex
X-PUBLISHED-TTL:PT1H
BEGIN:VTIMEZONE
TZID:America/New_York
BEGIN:DAYLIGHT
TZOFFSETFROM:-0500
TZOFFSETTO:-0400
TZNAME:EDT
DTSTART:20220313T070000
END:DAYLIGHT
BEGIN:STANDARD
TZOFFSETFROM:-0400
TZOFFSETTO:-0500
TZNAME:EST
DTSTART:20221106T060000
END:STANDARD
END:VTIMEZONE
BEGIN:VEVENT
DTSTART;TZID=America/New_York:20220204T180000
DTEND;TZID=America/New_York:20220204T200000
DTSTAMP:20260419T082257
CREATED:20220202T180253Z
LAST-MODIFIED:20220202T180253Z
UID:48123-1643997600-1644004800@nonahoodnews.com
SUMMARY:Funky Heart Paint & Sip @Willow & Birch Lake Nona
DESCRIPTION:Get all artsy as you paint with a loved one at Willow & Birch Lake Nona. Tickets are $35 per painter and includes all art supplies plus light refreshments.\nWillow & Birch and Canvas & Brushes LLC will be giving out gift certificates to some lucky winners! How exciting is that!\nSeating is limited so kindly reserve your seats in advance.\n\nhttps://www.canvasbrushes.com/event-details-registration/funky-hearts-paint-sip-willow-birch-lake-nona?fbclid=IwAR2Be3qDTyHZMnbl-jJknrw3OeIEpPxmcsBEySqoByT4uqM7UPqBsWr4TVA\nShare this:\n				Share on Facebook (Opens in new window)\n				Facebook\n			\n				Share on LinkedIn (Opens in new window)\n				LinkedIn\n			\n				Share on Pinterest (Opens in new window)\n				Pinterest\n			\n				Email a link to a friend (Opens in new window)\n				Email\n			Like this:Like Loading...
URL:https://nonahoodnews.com/event/funky-heart-paint-sip-willow-birch-lake-nona/
ATTACH;FMTTYPE=image/jpeg:https://nonahoodnews.com/wp-content/uploads/2022/02/FunkyHeart.jpg
END:VEVENT
BEGIN:VEVENT
DTSTART;TZID=America/New_York:20220205T100000
DTEND;TZID=America/New_York:20220205T110000
DTSTAMP:20260419T082257
CREATED:20220202T173648Z
LAST-MODIFIED:20220202T173846Z
UID:48111-1644055200-1644058800@nonahoodnews.com
SUMMARY:Club Pilates
DESCRIPTION:Join us each Saturday morning at Boxi Park along with local fitness instructors from the Lake Nona area to engage in variety of diverse fitness classes. Each week will feature a different style of training.\nPlease arrive a few minutes early to ensure the class starts promptly. Classes are 45 minutes.\nClasses are only $5 (plus EB fee)\nShare this:\n				Share on Facebook (Opens in new window)\n				Facebook\n			\n				Share on LinkedIn (Opens in new window)\n				LinkedIn\n			\n				Share on Pinterest (Opens in new window)\n				Pinterest\n			\n				Email a link to a friend (Opens in new window)\n				Email\n			Like this:Like Loading...
URL:https://nonahoodnews.com/event/club-pilates-2/
LOCATION:Boxi Park
ATTACH;FMTTYPE=image/jpeg:https://nonahoodnews.com/wp-content/uploads/2022/02/SweatSaturdays.jpg
END:VEVENT
BEGIN:VEVENT
DTSTART;TZID=America/New_York:20220205T100000
DTEND;TZID=America/New_York:20220205T120000
DTSTAMP:20260419T082257
CREATED:20220202T182608Z
LAST-MODIFIED:20220202T182609Z
UID:48128-1644055200-1644062400@nonahoodnews.com
SUMMARY:Ribbon-Cutting Ceremony at Code Ninjas Lake Nona
DESCRIPTION:Join us as we welcome Code Ninjas Lake Nona to the neighborhood. \nShare this:\n				Share on Facebook (Opens in new window)\n				Facebook\n			\n				Share on LinkedIn (Opens in new window)\n				LinkedIn\n			\n				Share on Pinterest (Opens in new window)\n				Pinterest\n			\n				Email a link to a friend (Opens in new window)\n				Email\n			Like this:Like Loading...
URL:https://nonahoodnews.com/event/ribbon-cutting-ceremony-code-ninjas-lake-nona/
ATTACH;FMTTYPE=image/jpeg:https://nonahoodnews.com/wp-content/uploads/2022/02/CodeNinjasRibbonCeremony.jpg
END:VEVENT
BEGIN:VEVENT
DTSTART;TZID=America/New_York:20220205T100000
DTEND;TZID=America/New_York:20220205T160000
DTSTAMP:20260419T082257
CREATED:20220202T164421Z
LAST-MODIFIED:20220202T164421Z
UID:48094-1644055200-1644076800@nonahoodnews.com
SUMMARY:Lake Nona StoryWalk
DESCRIPTION:The library returns to Lake Nona in a self-guided\, outdoor reading experience! As participants stroll through Crescent Park in Laureate Park\, they will be directed toward the next page in the story.\nNEA Big Read is a program of the National Endowment for the Arts designed to broaden our understanding of our world\, our communities\, and ourselves through the joy of sharing a good book. This year\, the NEA Big Read is ”The Call of the Wild\,” and the Storywalk component is the “The Great Kapok Tree.”\nBesides\, reading the story\, you can enjoy the other aspects of this event from 1 pm-4 pm. Meet some small farm animals or purchase some popcorn and shaved ice!\nShare this:\n				Share on Facebook (Opens in new window)\n				Facebook\n			\n				Share on LinkedIn (Opens in new window)\n				LinkedIn\n			\n				Share on Pinterest (Opens in new window)\n				Pinterest\n			\n				Email a link to a friend (Opens in new window)\n				Email\n			Like this:Like Loading...
URL:https://nonahoodnews.com/event/lake-nona-storywalk/
LOCATION:Crescent Park in Laureate Park\, 8374 Upper Perse Cir\, Orlando\, FL\, 32827\, United States
ATTACH;FMTTYPE=image/jpeg:https://nonahoodnews.com/wp-content/uploads/2022/02/StoryWalk.jpg
END:VEVENT
BEGIN:VEVENT
DTSTART;TZID=America/New_York:20220206T100000
DTEND;TZID=America/New_York:20220206T120000
DTSTAMP:20260419T082257
CREATED:20220202T200319Z
LAST-MODIFIED:20220202T200319Z
UID:48153-1644141600-1644148800@nonahoodnews.com
SUMMARY:Lake Nona CO-ED Softball League
DESCRIPTION:Lake Nona is now offering a Co-ed Softball League. Sign up today at gcscfl.com to hold your spot or team! \nShare this:\n				Share on Facebook (Opens in new window)\n				Facebook\n			\n				Share on LinkedIn (Opens in new window)\n				LinkedIn\n			\n				Share on Pinterest (Opens in new window)\n				Pinterest\n			\n				Email a link to a friend (Opens in new window)\n				Email\n			Like this:Like Loading...
URL:https://nonahoodnews.com/event/lake-nona-co-ed-softball-league/
ATTACH;FMTTYPE=image/jpeg:https://nonahoodnews.com/wp-content/uploads/2022/02/LakeNonaSoftball.jpg
END:VEVENT
BEGIN:VEVENT
DTSTART;TZID=America/New_York:20220212T180000
DTEND;TZID=America/New_York:20220212T220000
DTSTAMP:20260419T082257
CREATED:20220202T165650Z
LAST-MODIFIED:20220202T165650Z
UID:48098-1644688800-1644703200@nonahoodnews.com
SUMMARY:Love\, Lake Nona
DESCRIPTION:Come spread the love in Town Center on Saturday\, February 12th from 6:00pm-10:00pm.\nEnjoy a live DJ\, Champagne bar\, Poppy’s’ Flower Truck\, Sweet Treats\, a Caricature Artist\, and a surprise Photo Op!\nShare this:\n				Share on Facebook (Opens in new window)\n				Facebook\n			\n				Share on LinkedIn (Opens in new window)\n				LinkedIn\n			\n				Share on Pinterest (Opens in new window)\n				Pinterest\n			\n				Email a link to a friend (Opens in new window)\n				Email\n			Like this:Like Loading...
URL:https://nonahoodnews.com/event/love-lake-nona/
LOCATION:Lake Nona Town Center\, Orlando\, FL\, United States
ATTACH;FMTTYPE=image/jpeg:https://nonahoodnews.com/wp-content/uploads/2022/02/LoveLakeNona.jpg
END:VEVENT
BEGIN:VEVENT
DTSTART;TZID=America/New_York:20220217T170000
DTEND;TZID=America/New_York:20220217T190000
DTSTAMP:20260419T082257
CREATED:20220214T141132Z
LAST-MODIFIED:20220214T141132Z
UID:48308-1645117200-1645124400@nonahoodnews.com
SUMMARY:Yappy Hour
DESCRIPTION:Stop by Crescent Park with a glass of wine to enjoy live acoustic music from 5 pm -7 pm. \nShare this:\n				Share on Facebook (Opens in new window)\n				Facebook\n			\n				Share on LinkedIn (Opens in new window)\n				LinkedIn\n			\n				Share on Pinterest (Opens in new window)\n				Pinterest\n			\n				Email a link to a friend (Opens in new window)\n				Email\n			Like this:Like Loading...
URL:https://nonahoodnews.com/event/yappy-hour/
ATTACH;FMTTYPE=image/jpeg:https://nonahoodnews.com/wp-content/uploads/2022/02/YappyHour.jpg
END:VEVENT
BEGIN:VEVENT
DTSTART;TZID=America/New_York:20220224T180000
DTEND;TZID=America/New_York:20220224T220000
DTSTAMP:20260419T082257
CREATED:20220202T175406Z
LAST-MODIFIED:20220202T175406Z
UID:48120-1645725600-1645740000@nonahoodnews.com
SUMMARY:Tequila & Tapas
DESCRIPTION:This workshop will take you step by step in a liquid curriculum meant to nail what makes an iconic cocktail. Our expert mixologist will guide you as you craft cocktails from Hornitos Tequila\, bestow some history upon you\, and share with you the special tips and tricks to create a perfect drink.\nAfter each cocktail is done\, you will check the results\, compare them\, perhaps adjust a little something\, and then of course enjoy each of your creations paired with a small dish from CANVAS.\nShare this:\n				Share on Facebook (Opens in new window)\n				Facebook\n			\n				Share on LinkedIn (Opens in new window)\n				LinkedIn\n			\n				Share on Pinterest (Opens in new window)\n				Pinterest\n			\n				Email a link to a friend (Opens in new window)\n				Email\n			Like this:Like Loading...
URL:https://nonahoodnews.com/event/tequila-tapas/
LOCATION:Dockside Lake Nona\, 13623 Sachs Avenue\, Orlando\, 32827\, United States
ATTACH;FMTTYPE=image/jpeg:https://nonahoodnews.com/wp-content/uploads/2022/02/TequilaandTapas.jpg
END:VEVENT
END:VCALENDAR