BEGIN:VCALENDAR
VERSION:2.0
PRODID:-//Nonahood News - ECPv6.6.0.2//NONSGML v1.0//EN
CALSCALE:GREGORIAN
METHOD:PUBLISH
X-WR-CALNAME:Nonahood News
X-ORIGINAL-URL:https://nonahoodnews.com
X-WR-CALDESC:Events for Nonahood News
REFRESH-INTERVAL;VALUE=DURATION:PT1H
X-Robots-Tag:noindex
X-PUBLISHED-TTL:PT1H
BEGIN:VTIMEZONE
TZID:America/New_York
BEGIN:DAYLIGHT
TZOFFSETFROM:-0500
TZOFFSETTO:-0400
TZNAME:EDT
DTSTART:20250309T070000
END:DAYLIGHT
BEGIN:STANDARD
TZOFFSETFROM:-0400
TZOFFSETTO:-0500
TZNAME:EST
DTSTART:20251102T060000
END:STANDARD
END:VTIMEZONE
BEGIN:VEVENT
DTSTART;TZID=America/New_York:20250417T170000
DTEND;TZID=America/New_York:20250417T190000
DTSTAMP:20260423T041235
CREATED:20250417T141747Z
LAST-MODIFIED:20250417T141747Z
UID:57117-1744909200-1744916400@nonahoodnews.com
SUMMARY:Yappy Hour
DESCRIPTION:Break out those leashes\, it’s time for Yappy Hour! Join us on April 17 from 5-7 PM at Crescent Park for live music\, pet vendors\, free nail trims and more. \nDon’t miss the opportunity for a fun-filled Doggy Easter Hunt\, where furry friends can sniff out treats and enjoy photos with the Easter Bunny! \nThis event is non-ticketed and open to the public. Event is sponsored by Furry Land Mobile. \nShare this:\n				Share on Facebook (Opens in new window)\n				Facebook\n			\n				Share on LinkedIn (Opens in new window)\n				LinkedIn\n			\n				Share on Pinterest (Opens in new window)\n				Pinterest\n			\n				Email a link to a friend (Opens in new window)\n				Email\n			Like this:Like Loading...
URL:https://nonahoodnews.com/event/yappy-hour-5/
LOCATION:Crescent Park in Laureate Park\, 8374 Upper Perse Cir\, Orlando\, FL\, 32827\, United States
END:VEVENT
BEGIN:VEVENT
DTSTART;TZID=America/New_York:20250417T180000
DTEND;TZID=America/New_York:20250417T200000
DTSTAMP:20260423T041235
CREATED:20250410T140000Z
LAST-MODIFIED:20250410T140000Z
UID:57080-1744912800-1744920000@nonahoodnews.com
SUMMARY:Community Update- Lake Nona Residents
DESCRIPTION:Please join us on April 17th\, 2025\, as the Greater Orlando Aviation Authority (GOAA) leadership shares exciting updates on projects that will shape Central Florida’s future.\nFor more information or to RSVP\, please send an email to: SRomero@goaa.org\nShare this:\n				Share on Facebook (Opens in new window)\n				Facebook\n			\n				Share on LinkedIn (Opens in new window)\n				LinkedIn\n			\n				Share on Pinterest (Opens in new window)\n				Pinterest\n			\n				Email a link to a friend (Opens in new window)\n				Email\n			Like this:Like Loading...
URL:https://nonahoodnews.com/event/community-update-lake-nona-residents/
LOCATION:Dockside Lake Nona\, 13623 Sachs Avenue\, Orlando\, 32827\, United States
END:VEVENT
BEGIN:VEVENT
DTSTART;TZID=America/New_York:20250417T190000
DTEND;TZID=America/New_York:20250417T193000
DTSTAMP:20260423T041235
CREATED:20250417T141850Z
LAST-MODIFIED:20250417T141850Z
UID:57119-1744916400-1744918200@nonahoodnews.com
SUMMARY:Mixology Mixer at Lake Nona Wave Hotel
DESCRIPTION:Join our expert mixologists at Haven Lounge for a fun and interactive 30-minute complimentary experience crafting and tasting exquisite cocktails starting at 7:00pm. \nShare this:\n				Share on Facebook (Opens in new window)\n				Facebook\n			\n				Share on LinkedIn (Opens in new window)\n				LinkedIn\n			\n				Share on Pinterest (Opens in new window)\n				Pinterest\n			\n				Email a link to a friend (Opens in new window)\n				Email\n			Like this:Like Loading...
URL:https://nonahoodnews.com/event/mixology-mixer-lake-nona-wave-hotel-7/
LOCATION:Lake Nona Wave Hotel
END:VEVENT
END:VCALENDAR