BEGIN:VCALENDAR
VERSION:2.0
PRODID:-//Nonahood News - ECPv6.6.0.2//NONSGML v1.0//EN
CALSCALE:GREGORIAN
METHOD:PUBLISH
X-WR-CALNAME:Nonahood News
X-ORIGINAL-URL:https://nonahoodnews.com
X-WR-CALDESC:Events for Nonahood News
REFRESH-INTERVAL;VALUE=DURATION:PT1H
X-Robots-Tag:noindex
X-PUBLISHED-TTL:PT1H
BEGIN:VTIMEZONE
TZID:America/New_York
BEGIN:DAYLIGHT
TZOFFSETFROM:-0500
TZOFFSETTO:-0400
TZNAME:EDT
DTSTART:20250309T070000
END:DAYLIGHT
BEGIN:STANDARD
TZOFFSETFROM:-0400
TZOFFSETTO:-0500
TZNAME:EST
DTSTART:20251102T060000
END:STANDARD
END:VTIMEZONE
BEGIN:VEVENT
DTSTART;TZID=America/New_York:20250413T120000
DTEND;TZID=America/New_York:20250413T210000
DTSTAMP:20260421T105551
CREATED:20250410T141613Z
LAST-MODIFIED:20250410T141613Z
UID:57089-1744545600-1744578000@nonahoodnews.com
SUMMARY:Latin Weekend at Boxi Park
DESCRIPTION:Latin Weekend is taking over Boxi Park\, April 10–13! \nGet ready for four days packed with live Latin beats\, salsa dancing\, themed bites\, and cocktails that bring the heat. Whether you’re dancing ‘til the lights come on\, learning new moves\, or just soaking up the vibes—this is where the fiesta lives. Grab the crew\, feel the rhythm\, and let’s light up the weekend. Nos vemos en la pista! \nShare this:\n				Share on Facebook (Opens in new window)\n				Facebook\n			\n				Share on LinkedIn (Opens in new window)\n				LinkedIn\n			\n				Share on Pinterest (Opens in new window)\n				Pinterest\n			\n				Email a link to a friend (Opens in new window)\n				Email\n			Like this:Like Loading...
URL:https://nonahoodnews.com/event/latin-weekend-boxi-park-4/
LOCATION:Boxi Park
END:VEVENT
END:VCALENDAR