BEGIN:VCALENDAR
VERSION:2.0
PRODID:-//Nonahood News - ECPv6.6.0.2//NONSGML v1.0//EN
CALSCALE:GREGORIAN
METHOD:PUBLISH
X-ORIGINAL-URL:https://nonahoodnews.com
X-WR-CALDESC:Events for Nonahood News
REFRESH-INTERVAL;VALUE=DURATION:PT1H
X-Robots-Tag:noindex
X-PUBLISHED-TTL:PT1H
BEGIN:VTIMEZONE
TZID:America/New_York
BEGIN:DAYLIGHT
TZOFFSETFROM:-0500
TZOFFSETTO:-0400
TZNAME:EDT
DTSTART:20250309T070000
END:DAYLIGHT
BEGIN:STANDARD
TZOFFSETFROM:-0400
TZOFFSETTO:-0500
TZNAME:EST
DTSTART:20251102T060000
END:STANDARD
END:VTIMEZONE
BEGIN:VEVENT
DTSTART;TZID=America/New_York:20250411T091500
DTEND;TZID=America/New_York:20250411T101500
DTSTAMP:20260419T152304
CREATED:20250328T190507Z
LAST-MODIFIED:20250328T190507Z
UID:57033-1744362900-1744366500@nonahoodnews.com
SUMMARY:Sunlight Yoga
DESCRIPTION:Classes are open to the community every Monday\, Wednesday\, and Friday at Dockside in Laureate Park: 13623 Sachs Avenue\, Orlando\, Fla 32827. \nTimes and Days: \nMondays: 6 – 7 PM\n7:10 – 8:10 PM \nWednesdays: 6 – 7 PM (NEW TIME) \nFridays: 9:15 – 10:15 AM \nShare this:\n				Share on Facebook (Opens in new window)\n				Facebook\n			\n				Share on LinkedIn (Opens in new window)\n				LinkedIn\n			\n				Share on Pinterest (Opens in new window)\n				Pinterest\n			\n				Email a link to a friend (Opens in new window)\n				Email\n			Like this:Like Loading...
URL:https://nonahoodnews.com/event/sunlight-yoga-14/
LOCATION:Dockside Lake Nona\, 13623 Sachs Avenue\, Orlando\, 32827\, United States
END:VEVENT
BEGIN:VEVENT
DTSTART;TZID=America/New_York:20250411T170000
DTEND;TZID=America/New_York:20250411T230000
DTSTAMP:20260419T152304
CREATED:20250410T141338Z
LAST-MODIFIED:20250410T141338Z
UID:57085-1744390800-1744412400@nonahoodnews.com
SUMMARY:Latin Weekend at Boxi Park
DESCRIPTION:Latin Weekend is taking over Boxi Park\, April 10–13! \nGet ready for four days packed with live Latin beats\, salsa dancing\, themed bites\, and cocktails that bring the heat. Whether you’re dancing ‘til the lights come on\, learning new moves\, or just soaking up the vibes—this is where the fiesta lives. Grab the crew\, feel the rhythm\, and let’s light up the weekend. Nos vemos en la pista! \nShare this:\n				Share on Facebook (Opens in new window)\n				Facebook\n			\n				Share on LinkedIn (Opens in new window)\n				LinkedIn\n			\n				Share on Pinterest (Opens in new window)\n				Pinterest\n			\n				Email a link to a friend (Opens in new window)\n				Email\n			Like this:Like Loading...
URL:https://nonahoodnews.com/event/latin-weekend-boxi-park-2/
LOCATION:Boxi Park
END:VEVENT
BEGIN:VEVENT
DTSTART;TZID=America/New_York:20250411T180000
DTEND;TZID=America/New_York:20250411T220000
DTSTAMP:20260419T152304
CREATED:20250328T190952Z
LAST-MODIFIED:20250328T190952Z
UID:57035-1744394400-1744408800@nonahoodnews.com
SUMMARY:Art After Dark in the Town Center
DESCRIPTION:Join us every Friday and Saturday evening as Orlando Local Makers takes over Lake Nona Town Center with Art After Dark. \nPerfectly nestled between Chroma Modern Bar + Kitchen and Bosphorous Turkish Cuisine of Lake Nona\, Art After Dark is a perfect evening out for the whole family. \nEnjoy a stroll through our Town Center as you explore hand crafted artisan products\, and tasty cuisine. \nBe sure to grab a glass a wine\, stay a while to enjoy the art displayed on our six story art installation\, The Beacon. \nThis four hour event kicks off at 6 PM and is open to the public\, there is no cover or ticket needed for this event! \nShare this:\n				Share on Facebook (Opens in new window)\n				Facebook\n			\n				Share on LinkedIn (Opens in new window)\n				LinkedIn\n			\n				Share on Pinterest (Opens in new window)\n				Pinterest\n			\n				Email a link to a friend (Opens in new window)\n				Email\n			Like this:Like Loading...
URL:https://nonahoodnews.com/event/art-dark-town-center-15/
LOCATION:Lake Nona Town Center\, Orlando\, FL\, 32827\, United States
END:VEVENT
BEGIN:VEVENT
DTSTART;TZID=America/New_York:20250411T180000
DTEND;TZID=America/New_York:20250411T220000
DTSTAMP:20260419T152304
CREATED:20250328T192135Z
LAST-MODIFIED:20250328T192135Z
UID:57037-1744394400-1744408800@nonahoodnews.com
SUMMARY:Queen Omakase X Nami Chefs Counter Takeover
DESCRIPTION:For three nights only\, Queen Omakase takes over Nami’s Chef’s Counter for a once-in-a-lifetime dining experience. From April 10-12\, witness an extraordinary collaboration between Chef Freddy Money of Michelin-starred Atlas\, Chef Max Kamakura of Queen Miami Beach\, and Chef Jason Beliveau of Nami. \nThis intimate Chef’s Counter event will feature a custom-curated\, multi-course menu\, blending the finest ingredients\, innovative Japanese techniques\, and Michelin-level precision. \nSeats are limited-click here to reserve now. \nShare this:\n				Share on Facebook (Opens in new window)\n				Facebook\n			\n				Share on LinkedIn (Opens in new window)\n				LinkedIn\n			\n				Share on Pinterest (Opens in new window)\n				Pinterest\n			\n				Email a link to a friend (Opens in new window)\n				Email\n			Like this:Like Loading...
URL:https://nonahoodnews.com/event/queen-omakase-x-nami-chefs-counter-takeover-2/
LOCATION:Nami\, 6004 Artist Ave\, Orlando\, Florida
END:VEVENT
END:VCALENDAR