BEGIN:VCALENDAR
VERSION:2.0
PRODID:-//Nonahood News - ECPv6.6.0.2//NONSGML v1.0//EN
CALSCALE:GREGORIAN
METHOD:PUBLISH
X-WR-CALNAME:Nonahood News
X-ORIGINAL-URL:https://nonahoodnews.com
X-WR-CALDESC:Events for Nonahood News
REFRESH-INTERVAL;VALUE=DURATION:PT1H
X-Robots-Tag:noindex
X-PUBLISHED-TTL:PT1H
BEGIN:VTIMEZONE
TZID:America/New_York
BEGIN:DAYLIGHT
TZOFFSETFROM:-0500
TZOFFSETTO:-0400
TZNAME:EDT
DTSTART:20240310T070000
END:DAYLIGHT
BEGIN:STANDARD
TZOFFSETFROM:-0400
TZOFFSETTO:-0500
TZNAME:EST
DTSTART:20241103T060000
END:STANDARD
END:VTIMEZONE
BEGIN:VEVENT
DTSTART;TZID=America/New_York:20241130T080000
DTEND;TZID=America/New_York:20241130T090000
DTSTAMP:20260425T214915
CREATED:20241128T134827Z
LAST-MODIFIED:20241128T134827Z
UID:56234-1732953600-1732957200@nonahoodnews.com
SUMMARY:Yoga in the Garden
DESCRIPTION:Spring into fitness and join us every Saturday for power yoga in the Sculpture Garden from 8 – 9 am hosted by a Lake Nona Performance Club instructor. \nShare this:\n				Share on Facebook (Opens in new window)\n				Facebook\n			\n				Share on LinkedIn (Opens in new window)\n				LinkedIn\n			\n				Share on Pinterest (Opens in new window)\n				Pinterest\n			\n				Email a link to a friend (Opens in new window)\n				Email\n			Like this:Like Loading...
URL:https://nonahoodnews.com/event/yoga-in-the-garden-3/
LOCATION:Lake Nona Wave Hotel
END:VEVENT
BEGIN:VEVENT
DTSTART;TZID=America/New_York:20241130T120000
DTEND;TZID=America/New_York:20241130T160000
DTSTAMP:20260425T214915
CREATED:20241128T134623Z
LAST-MODIFIED:20241128T134623Z
UID:56232-1732968000-1732982400@nonahoodnews.com
SUMMARY:Small Business Saturday Market
DESCRIPTION:Join us for an afternoon of shopping small at Lake Nona’s Small Business Saturday Market on November 30 from 12 to 4 pm! Discover a curated selection of over 40 talented local makers\, artisans and small businesses\, all ready to showcase their unique creations. From handcrafted jewelry and one-of-a-kind home décor to artisanal foods and holiday gifts\, you’ll find special items for everyone on your list—and maybe even a treat for yourself! \nThis is a wonderful opportunity to support local businesses while enjoying the vibrant Lake Nona Town Center. Bring a friend\, grab a seasonal drink and stroll through the market as you explore beautifully crafted products by local entrepreneurs. Enjoy delicious bites and plenty of holiday cheer in a community that celebrates innovation and creativity. \nMark your calendar for November 30\, and let’s celebrate Small Business Saturday in style. This is more than just shopping—it’s an experience you won’t want to miss. See you there! \nShare this:\n				Share on Facebook (Opens in new window)\n				Facebook\n			\n				Share on LinkedIn (Opens in new window)\n				LinkedIn\n			\n				Share on Pinterest (Opens in new window)\n				Pinterest\n			\n				Email a link to a friend (Opens in new window)\n				Email\n			Like this:Like Loading...
URL:https://nonahoodnews.com/event/small-business-saturday-market/
LOCATION:Lake Nona Town Center\, Orlando\, FL\, 32827\, United States
END:VEVENT
END:VCALENDAR