BEGIN:VCALENDAR
VERSION:2.0
PRODID:-//Nonahood News - ECPv6.6.0.2//NONSGML v1.0//EN
CALSCALE:GREGORIAN
METHOD:PUBLISH
X-WR-CALNAME:Nonahood News
X-ORIGINAL-URL:https://nonahoodnews.com
X-WR-CALDESC:Events for Nonahood News
REFRESH-INTERVAL;VALUE=DURATION:PT1H
X-Robots-Tag:noindex
X-PUBLISHED-TTL:PT1H
BEGIN:VTIMEZONE
TZID:America/New_York
BEGIN:DAYLIGHT
TZOFFSETFROM:-0500
TZOFFSETTO:-0400
TZNAME:EDT
DTSTART:20240310T070000
END:DAYLIGHT
BEGIN:STANDARD
TZOFFSETFROM:-0400
TZOFFSETTO:-0500
TZNAME:EST
DTSTART:20241103T060000
END:STANDARD
END:VTIMEZONE
BEGIN:VEVENT
DTSTART;TZID=America/New_York:20241116T080000
DTEND;TZID=America/New_York:20241116T210000
DTSTAMP:20260425T214840
CREATED:20241114T131130Z
LAST-MODIFIED:20241114T131130Z
UID:56195-1731744000-1731790800@nonahoodnews.com
SUMMARY:Yoga in the Garden
DESCRIPTION:Spring into fitness and join us every Saturday for power yoga in the Sculpture Garden from 8 – 9 am hosted by a Lake Nona Performance Club instructor. \nShare this:\n				Share on Facebook (Opens in new window)\n				Facebook\n			\n				Share on LinkedIn (Opens in new window)\n				LinkedIn\n			\n				Share on Pinterest (Opens in new window)\n				Pinterest\n			\n				Email a link to a friend (Opens in new window)\n				Email\n			Like this:Like Loading...
URL:https://nonahoodnews.com/event/yoga-in-the-garden/
LOCATION:Sculpture Garden
END:VEVENT
BEGIN:VEVENT
DTSTART;TZID=America/New_York:20241116T090000
DTEND;TZID=America/New_York:20241116T100000
DTSTAMP:20260425T214840
CREATED:20241114T131227Z
LAST-MODIFIED:20241114T131227Z
UID:56198-1731747600-1731751200@nonahoodnews.com
SUMMARY:Yoga Nona
DESCRIPTION:A comfortably paced community yoga class that allows time for beginners to find their poses and advanced practitioners to find their edges. \nOpen to all ages and skill levels! \nThese hour-long classes are free and open to the public and held outdoors at Crescent Park\, so dress appropriately and bring your own mat\, towel and water. \nBrought to you by AdventHealth. \nShare this:\n				Share on Facebook (Opens in new window)\n				Facebook\n			\n				Share on LinkedIn (Opens in new window)\n				LinkedIn\n			\n				Share on Pinterest (Opens in new window)\n				Pinterest\n			\n				Email a link to a friend (Opens in new window)\n				Email\n			Like this:Like Loading...
URL:https://nonahoodnews.com/event/yoga-nona-5/
LOCATION:Crescent Park in Laureate Park\, 8374 Upper Perse Cir\, Orlando\, FL\, 32827\, United States
END:VEVENT
END:VCALENDAR