BEGIN:VCALENDAR
VERSION:2.0
PRODID:-//Nonahood News - ECPv6.6.0.2//NONSGML v1.0//EN
CALSCALE:GREGORIAN
METHOD:PUBLISH
X-WR-CALNAME:Nonahood News
X-ORIGINAL-URL:https://nonahoodnews.com
X-WR-CALDESC:Events for Nonahood News
REFRESH-INTERVAL;VALUE=DURATION:PT1H
X-Robots-Tag:noindex
X-PUBLISHED-TTL:PT1H
BEGIN:VTIMEZONE
TZID:America/New_York
BEGIN:DAYLIGHT
TZOFFSETFROM:-0500
TZOFFSETTO:-0400
TZNAME:EDT
DTSTART:20240310T070000
END:DAYLIGHT
BEGIN:STANDARD
TZOFFSETFROM:-0400
TZOFFSETTO:-0500
TZNAME:EST
DTSTART:20241103T060000
END:STANDARD
END:VTIMEZONE
BEGIN:VEVENT
DTSTART;TZID=America/New_York:20241018T091500
DTEND;TZID=America/New_York:20241018T101500
DTSTAMP:20260425T224037
CREATED:20241017T133953Z
LAST-MODIFIED:20241017T133953Z
UID:56047-1729242900-1729246500@nonahoodnews.com
SUMMARY:Sunlight Yoga
DESCRIPTION:Classes are open to the community every Monday\, Wednesday\, and Friday at Dockside in Laureate Park: 13623 Sachs Avenue\, Orlando\, Fla 32827. \nShare this:\n				Share on Facebook (Opens in new window)\n				Facebook\n			\n				Share on LinkedIn (Opens in new window)\n				LinkedIn\n			\n				Share on Pinterest (Opens in new window)\n				Pinterest\n			\n				Email a link to a friend (Opens in new window)\n				Email\n			Like this:Like Loading...
URL:https://nonahoodnews.com/event/sunlight-yoga-9/
LOCATION:Dockside Lake Nona\, 13623 Sachs Avenue\, Orlando\, 32827\, United States
END:VEVENT
BEGIN:VEVENT
DTSTART;TZID=America/New_York:20241018T180000
DTEND;TZID=America/New_York:20241018T220000
DTSTAMP:20260425T224037
CREATED:20241017T134254Z
LAST-MODIFIED:20241017T134254Z
UID:56049-1729274400-1729288800@nonahoodnews.com
SUMMARY:Art After Dark
DESCRIPTION:Join us every Friday evening as Orlando Local Makers takes over Lake Nona Town Center with Art After Dark. \nPerfectly nestled between Chroma Modern Bar + Kitchen and Bosphorous Turkish Cuisine of Lake Nona\, Art After Dark is a perfect evening out for the whole family. \nEnjoy a stroll through our Town Center as you explore hand crafted artisan products\, and tasty cuisine. Be sure to grab a glass a wine\, stay a while to enjoy the art displayed on our six story art installation\, The Beacon. This four hour event kicks off at 6 PM and is open to the public\, there is no cover or ticket needed for this event! \nShare this:\n				Share on Facebook (Opens in new window)\n				Facebook\n			\n				Share on LinkedIn (Opens in new window)\n				LinkedIn\n			\n				Share on Pinterest (Opens in new window)\n				Pinterest\n			\n				Email a link to a friend (Opens in new window)\n				Email\n			Like this:Like Loading...
URL:https://nonahoodnews.com/event/art-after-dark-17/
LOCATION:Lake Nona Town Center\, Orlando\, FL\, 32827\, United States
END:VEVENT
BEGIN:VEVENT
DTSTART;TZID=America/New_York:20241018T180000
DTEND;TZID=America/New_York:20241018T220000
DTSTAMP:20260425T224037
CREATED:20241017T140157Z
LAST-MODIFIED:20241017T140208Z
UID:56064-1729274400-1729288800@nonahoodnews.com
SUMMARY:Friday Night Dance Party at Boxi Park
DESCRIPTION:Join us for an unforgettable Dance Party Night featuring No Filter & DJ Todd! \nShare this:\n				Share on Facebook (Opens in new window)\n				Facebook\n			\n				Share on LinkedIn (Opens in new window)\n				LinkedIn\n			\n				Share on Pinterest (Opens in new window)\n				Pinterest\n			\n				Email a link to a friend (Opens in new window)\n				Email\n			Like this:Like Loading...
URL:https://nonahoodnews.com/event/friday-night-dance-party-boxi-park/
LOCATION:Boxi Park
END:VEVENT
BEGIN:VEVENT
DTSTART;TZID=America/New_York:20241018T183000
DTEND;TZID=America/New_York:20241018T213000
DTSTAMP:20260425T224037
CREATED:20241017T134418Z
LAST-MODIFIED:20241017T134418Z
UID:56051-1729276200-1729287000@nonahoodnews.com
SUMMARY:Crescent Cinema featuring Haunted Mansion
DESCRIPTION:Join us for a magical evening under the stars with our Crescent Cinema series! Bring your family and friends\, pack your favorite snacks\, and enjoy a fantastic lineup of films in a beautiful outdoor setting. \nShare this:\n				Share on Facebook (Opens in new window)\n				Facebook\n			\n				Share on LinkedIn (Opens in new window)\n				LinkedIn\n			\n				Share on Pinterest (Opens in new window)\n				Pinterest\n			\n				Email a link to a friend (Opens in new window)\n				Email\n			Like this:Like Loading...
URL:https://nonahoodnews.com/event/crescent-cinema-featuring-haunted-mansion/
LOCATION:Crescent Park in Laureate Park\, 8374 Upper Perse Cir\, Orlando\, FL\, 32827\, United States
END:VEVENT
END:VCALENDAR