BEGIN:VCALENDAR
VERSION:2.0
PRODID:-//Nonahood News - ECPv6.6.0.2//NONSGML v1.0//EN
CALSCALE:GREGORIAN
METHOD:PUBLISH
X-WR-CALNAME:Nonahood News
X-ORIGINAL-URL:https://nonahoodnews.com
X-WR-CALDESC:Events for Nonahood News
REFRESH-INTERVAL;VALUE=DURATION:PT1H
X-Robots-Tag:noindex
X-PUBLISHED-TTL:PT1H
BEGIN:VTIMEZONE
TZID:America/New_York
BEGIN:DAYLIGHT
TZOFFSETFROM:-0500
TZOFFSETTO:-0400
TZNAME:EDT
DTSTART:20240310T070000
END:DAYLIGHT
BEGIN:STANDARD
TZOFFSETFROM:-0400
TZOFFSETTO:-0500
TZNAME:EST
DTSTART:20241103T060000
END:STANDARD
END:VTIMEZONE
BEGIN:VEVENT
DTSTART;TZID=America/New_York:20241017T180000
DTEND;TZID=America/New_York:20241017T210000
DTSTAMP:20260425T201337
CREATED:20241017T140046Z
LAST-MODIFIED:20241017T140046Z
UID:56062-1729188000-1729198800@nonahoodnews.com
SUMMARY:Horror Movie Trivia Night at Boxi Park
DESCRIPTION:Get Ready for a Night of Chills and Thrills at Our Horror Movie Trivia Night! Test your knowledge on classic horror movies and cult favorites  \nTest your knowledge with Trivia\, get in the groove with Music Video Bingo\, and spike up the fun with some Volleyball action! \nShare this:\n				Share on Facebook (Opens in new window)\n				Facebook\n			\n				Share on LinkedIn (Opens in new window)\n				LinkedIn\n			\n				Share on Pinterest (Opens in new window)\n				Pinterest\n			\n				Email a link to a friend (Opens in new window)\n				Email\n			Like this:Like Loading...
URL:https://nonahoodnews.com/event/horror-movie-trivia-night-boxi-park/
LOCATION:Boxi Park
END:VEVENT
END:VCALENDAR