BEGIN:VCALENDAR
VERSION:2.0
PRODID:-//Nonahood News - ECPv6.6.0.2//NONSGML v1.0//EN
CALSCALE:GREGORIAN
METHOD:PUBLISH
X-WR-CALNAME:Nonahood News
X-ORIGINAL-URL:https://nonahoodnews.com
X-WR-CALDESC:Events for Nonahood News
REFRESH-INTERVAL;VALUE=DURATION:PT1H
X-Robots-Tag:noindex
X-PUBLISHED-TTL:PT1H
BEGIN:VTIMEZONE
TZID:America/New_York
BEGIN:DAYLIGHT
TZOFFSETFROM:-0500
TZOFFSETTO:-0400
TZNAME:EDT
DTSTART:20240310T070000
END:DAYLIGHT
BEGIN:STANDARD
TZOFFSETFROM:-0400
TZOFFSETTO:-0500
TZNAME:EST
DTSTART:20241103T060000
END:STANDARD
END:VTIMEZONE
BEGIN:VEVENT
DTSTART;TZID=America/New_York:20241012T090000
DTEND;TZID=America/New_York:20241012T100000
DTSTAMP:20260425T234121
CREATED:20241010T133430Z
LAST-MODIFIED:20241010T133430Z
UID:56011-1728723600-1728727200@nonahoodnews.com
SUMMARY:Yoga Nona
DESCRIPTION:A comfortably paced community yoga class that allows time for beginners to find their poses and advanced practitioners to find their edges. \nOpen to all ages and skill levels! \nThese hour-long classes are free and open to the public and held outdoors at Crescent Park\, so dress appropriately and bring your own mat\, towel and water. \nBrought to you by AdventHealth. \nShare this:\n				Share on Facebook (Opens in new window)\n				Facebook\n			\n				Share on LinkedIn (Opens in new window)\n				LinkedIn\n			\n				Share on Pinterest (Opens in new window)\n				Pinterest\n			\n				Email a link to a friend (Opens in new window)\n				Email\n			Like this:Like Loading...
URL:https://nonahoodnews.com/event/yoga-nona-2/
LOCATION:Crescent Park in Laureate Park
END:VEVENT
BEGIN:VEVENT
DTSTART;TZID=America/New_York:20241012T110000
DTEND;TZID=America/New_York:20241012T150000
DTSTAMP:20260425T234121
CREATED:20241010T133534Z
LAST-MODIFIED:20241010T133534Z
UID:56013-1728730800-1728745200@nonahoodnews.com
SUMMARY:Live on the Lawn
DESCRIPTION:Kick off the start to the weekend with live entertainment\, lawn games and more every Saturday from 11 am – 3 pm. \nShare this:\n				Share on Facebook (Opens in new window)\n				Facebook\n			\n				Share on LinkedIn (Opens in new window)\n				LinkedIn\n			\n				Share on Pinterest (Opens in new window)\n				Pinterest\n			\n				Email a link to a friend (Opens in new window)\n				Email\n			Like this:Like Loading...
URL:https://nonahoodnews.com/event/live-on-the-lawn-3/
LOCATION:Lake Nona Town Center\, Orlando\, FL\, 32827\, United States
END:VEVENT
BEGIN:VEVENT
DTSTART;TZID=America/New_York:20241012T140000
DTEND;TZID=America/New_York:20241012T180000
DTSTAMP:20260425T234121
CREATED:20241010T133710Z
LAST-MODIFIED:20241010T133710Z
UID:56015-1728741600-1728756000@nonahoodnews.com
SUMMARY:Beer Festival: Mash of the Titans
DESCRIPTION:Join us at Lake Nona Town Center on October 12th from 2-6PM for an epic beer festival! Beer lovers will have exclusive access to unlimited samplings of craft beers from Park Brewing\, Brewer’s Anonymous Home Brew Club\, Brewlando\, Motorworks\, Windermere Brewing\, Crooked Can and more. Enjoy exclusive entertainment and interactive games included in your ticket. \nVIP Tickets: Get early access at noon\, a swag bag\, and a limited-edition Park Pizza & Brewing Co. beer. \n  \nhttps://lnmashofthetitans.eventbrite.com/?aff=MashofTitansLakeNonaWebsite \nShare this:\n				Share on Facebook (Opens in new window)\n				Facebook\n			\n				Share on LinkedIn (Opens in new window)\n				LinkedIn\n			\n				Share on Pinterest (Opens in new window)\n				Pinterest\n			\n				Email a link to a friend (Opens in new window)\n				Email\n			Like this:Like Loading...
URL:https://nonahoodnews.com/event/beer-festival-mash-titans/
LOCATION:Lake Nona Town Center\, Orlando\, FL\, 32827\, United States
END:VEVENT
END:VCALENDAR