BEGIN:VCALENDAR
VERSION:2.0
PRODID:-//Nonahood News - ECPv6.6.0.2//NONSGML v1.0//EN
CALSCALE:GREGORIAN
METHOD:PUBLISH
X-WR-CALNAME:Nonahood News
X-ORIGINAL-URL:https://nonahoodnews.com
X-WR-CALDESC:Events for Nonahood News
REFRESH-INTERVAL;VALUE=DURATION:PT1H
X-Robots-Tag:noindex
X-PUBLISHED-TTL:PT1H
BEGIN:VTIMEZONE
TZID:America/New_York
BEGIN:DAYLIGHT
TZOFFSETFROM:-0500
TZOFFSETTO:-0400
TZNAME:EDT
DTSTART:20230312T070000
END:DAYLIGHT
BEGIN:STANDARD
TZOFFSETFROM:-0400
TZOFFSETTO:-0500
TZNAME:EST
DTSTART:20231105T060000
END:STANDARD
END:VTIMEZONE
BEGIN:VEVENT
DTSTART;TZID=America/New_York:20231118T100000
DTEND;TZID=America/New_York:20231118T110000
DTSTAMP:20260422T052802
CREATED:20230927T142114Z
LAST-MODIFIED:20230927T142114Z
UID:54583-1700301600-1700305200@nonahoodnews.com
SUMMARY:Yoga Nona
DESCRIPTION:A comfortably paced community yoga class that allows time for beginners to find their poses and advanced practitioners to find their edges. \nOpen to all ages and skill levels! \nThese hour-long classes are free and open to the public and held outdoors at Crescent Park\, so dress appropriately and bring your own mat\, towel and water. \nShare this:\n				Share on Facebook (Opens in new window)\n				Facebook\n			\n				Share on LinkedIn (Opens in new window)\n				LinkedIn\n			\n				Share on Pinterest (Opens in new window)\n				Pinterest\n			\n				Email a link to a friend (Opens in new window)\n				Email\n			Like this:Like Loading...
URL:https://nonahoodnews.com/event/yoga-nona-2023-11-18/
LOCATION:Crescent Park in Laureate Park\, 8374 Upper Perse Cir\, Orlando\, FL\, 32827\, United States
ATTACH;FMTTYPE=image/jpeg:https://nonahoodnews.com/wp-content/uploads/2023/09/348840544_1971095443228960_1750820986509926629_n.jpg
END:VEVENT
BEGIN:VEVENT
DTSTART;TZID=America/New_York:20231118T110000
DTEND;TZID=America/New_York:20231118T150000
DTSTAMP:20260422T052802
CREATED:20231101T191855Z
LAST-MODIFIED:20231101T191855Z
UID:54034-1700305200-1700319600@nonahoodnews.com
SUMMARY:Live on the Lawn
DESCRIPTION:Kick off the start to the weekend with live entertainment\, lawn games and more every Saturday in Lake Nona Town Center from 11 am – 3 pm. \nShare this:\n				Share on Facebook (Opens in new window)\n				Facebook\n			\n				Share on LinkedIn (Opens in new window)\n				LinkedIn\n			\n				Share on Pinterest (Opens in new window)\n				Pinterest\n			\n				Email a link to a friend (Opens in new window)\n				Email\n			Like this:Like Loading...
URL:https://nonahoodnews.com/event/live-on-the-lawn-2023-11-18/
LOCATION:Lake Nona Town Center\, Orlando\, FL\, 32827\, United States
END:VEVENT
BEGIN:VEVENT
DTSTART;TZID=America/New_York:20231118T170000
DTEND;TZID=America/New_York:20231118T230000
DTSTAMP:20260422T052802
CREATED:20231101T185858Z
LAST-MODIFIED:20231101T185858Z
UID:53899-1700326800-1700348400@nonahoodnews.com
SUMMARY:Jazz Festival at Boxi Park
DESCRIPTION:Entertainment Lineup \nJazz Noire- Neo Soul Jazz | 5 PM – 7 PM \nThe Champagne Orchestra – Pop Jazz | 8 PM – 11 PM \nShare this:\n				Share on Facebook (Opens in new window)\n				Facebook\n			\n				Share on LinkedIn (Opens in new window)\n				LinkedIn\n			\n				Share on Pinterest (Opens in new window)\n				Pinterest\n			\n				Email a link to a friend (Opens in new window)\n				Email\n			Like this:Like Loading...
URL:https://nonahoodnews.com/event/jazz-festival-boxi-park/
LOCATION:Boxi Park
END:VEVENT
END:VCALENDAR