BEGIN:VCALENDAR
VERSION:2.0
PRODID:-//Nonahood News - ECPv6.6.0.2//NONSGML v1.0//EN
CALSCALE:GREGORIAN
METHOD:PUBLISH
X-WR-CALNAME:Nonahood News
X-ORIGINAL-URL:https://nonahoodnews.com
X-WR-CALDESC:Events for Nonahood News
REFRESH-INTERVAL;VALUE=DURATION:PT1H
X-Robots-Tag:noindex
X-PUBLISHED-TTL:PT1H
BEGIN:VTIMEZONE
TZID:America/New_York
BEGIN:DAYLIGHT
TZOFFSETFROM:-0500
TZOFFSETTO:-0400
TZNAME:EDT
DTSTART:20230312T070000
END:DAYLIGHT
BEGIN:STANDARD
TZOFFSETFROM:-0400
TZOFFSETTO:-0500
TZNAME:EST
DTSTART:20231105T060000
END:STANDARD
END:VTIMEZONE
BEGIN:VEVENT
DTSTART;TZID=America/New_York:20230518T173000
DTEND;TZID=America/New_York:20230518T203000
DTSTAMP:20260425T224122
CREATED:20230502T170216Z
LAST-MODIFIED:20230502T170216Z
UID:52809-1684431000-1684441800@nonahoodnews.com
SUMMARY:NCAA: Lake Nona Nights\, Beats and Bites (TH)
DESCRIPTION:Lake Nona Nights : Beat & Bites\n\nDance on and off court while our DJ spins. Enjoy food\, drink and games! \nFull event from 5:30pm – 8:30pm \nOn court tennis from 5:30pm – 6:30pm \n\nShare this:\n				Share on Facebook (Opens in new window)\n				Facebook\n			\n				Share on LinkedIn (Opens in new window)\n				LinkedIn\n			\n				Share on Pinterest (Opens in new window)\n				Pinterest\n			\n				Email a link to a friend (Opens in new window)\n				Email\n			Like this:Like Loading...
URL:https://nonahoodnews.com/event/ncaa-lake-nona-nights-beats-bites-th/
LOCATION:USTA National Campus Lake Nona\, 10000 USTA Blvd\, Orlando\, FL\, 32827\, United States
ORGANIZER;CN="USTA National Campus":MAILTO:georgiana.brown@usta.com
END:VEVENT
END:VCALENDAR