BEGIN:VCALENDAR
VERSION:2.0
PRODID:-//Nonahood News - ECPv6.6.0.2//NONSGML v1.0//EN
CALSCALE:GREGORIAN
METHOD:PUBLISH
X-ORIGINAL-URL:https://nonahoodnews.com
X-WR-CALDESC:Events for Nonahood News
REFRESH-INTERVAL;VALUE=DURATION:PT1H
X-Robots-Tag:noindex
X-PUBLISHED-TTL:PT1H
BEGIN:VTIMEZONE
TZID:America/New_York
BEGIN:DAYLIGHT
TZOFFSETFROM:-0500
TZOFFSETTO:-0400
TZNAME:EDT
DTSTART:20230312T070000
END:DAYLIGHT
BEGIN:STANDARD
TZOFFSETFROM:-0400
TZOFFSETTO:-0500
TZNAME:EST
DTSTART:20231105T060000
END:STANDARD
END:VTIMEZONE
BEGIN:VEVENT
DTSTART;TZID=America/New_York:20230511T080000
DTEND;TZID=America/New_York:20230511T213000
DTSTAMP:20260425T133735
CREATED:20230503T161515Z
LAST-MODIFIED:20230503T161515Z
UID:52845-1683792000-1683840600@nonahoodnews.com
SUMMARY:2023 Breakfast Connections - Health Committee Panel Discussion: Orthopedic Health
DESCRIPTION:Speakers and topics covered include:  \n-Pallavi Cherukupally\, MD with Regenerative Sport Spine and Spa – topic “Stem Cell Therapy and the Spine”\n​-Brittany L. Lambie\, MD\, FAAOS with UCF Lake Nona – topic “When should I see a spine surgeon?”\n-​Vonda Wright\, MD\, MS\, FAOA with Hughston Clinic Orthopaedics – topic “Peak Performance and Optimal Health from the Backyard to the Boardroom”​\n-Anita Vijapura\, MD with Rothman Orthopedics and AdventHealth – topic “Spine Health”\nShare this:\n				Share on Facebook (Opens in new window)\n				Facebook\n			\n				Share on LinkedIn (Opens in new window)\n				LinkedIn\n			\n				Share on Pinterest (Opens in new window)\n				Pinterest\n			\n				Email a link to a friend (Opens in new window)\n				Email\n			Like this:Like Loading...
URL:https://nonahoodnews.com/event/2023-breakfast-connections-health-committee-panel-discussion-orthopedic-health/
LOCATION:Valencia College Lake Nona Campus\, 12350 Narcoossee Rd\, Orlando\, FL\, 32832\, United States
ATTACH;FMTTYPE=image/jpeg:https://nonahoodnews.com/wp-content/uploads/2023/05/2023-Breakfast-Connections.jpeg
END:VEVENT
END:VCALENDAR