BEGIN:VCALENDAR
VERSION:2.0
PRODID:-//Nonahood News - ECPv6.6.0.2//NONSGML v1.0//EN
CALSCALE:GREGORIAN
METHOD:PUBLISH
X-ORIGINAL-URL:https://nonahoodnews.com
X-WR-CALDESC:Events for Nonahood News
REFRESH-INTERVAL;VALUE=DURATION:PT1H
X-Robots-Tag:noindex
X-PUBLISHED-TTL:PT1H
BEGIN:VTIMEZONE
TZID:America/New_York
BEGIN:DAYLIGHT
TZOFFSETFROM:-0500
TZOFFSETTO:-0400
TZNAME:EDT
DTSTART:20230312T070000
END:DAYLIGHT
BEGIN:STANDARD
TZOFFSETFROM:-0400
TZOFFSETTO:-0500
TZNAME:EST
DTSTART:20231105T060000
END:STANDARD
END:VTIMEZONE
BEGIN:VEVENT
DTSTART;TZID=America/New_York:20230228T140000
DTEND;TZID=America/New_York:20230228T160000
DTSTAMP:20260419T120339
CREATED:20230220T143023Z
LAST-MODIFIED:20230220T143023Z
UID:52159-1677592800-1677600000@nonahoodnews.com
SUMMARY:Dementia Caregiver Support and Book Signing with Mary Ann Drummond
DESCRIPTION:Understanding the many facets and stages of dementia is important for all kinds of caregivers including family members gaining an understanding of their loved one’s changing condition. At this free session geared to support caregivers\, author and experienced senior living nurse Mary Ann Drummond will share helpful information for interacting with those with dementia or Alzheimer’s. Also open to residents\, families and referrals for Somerby Lake Nona. \nDate: February 28 \nTime: 2 p.m. to 4 p.m. \nLocation/Address: Somerby Lake Nona\, 9682 Lake Nona Village Place\, Orlando\, Fla. 32827 \nContact Name: Lifestyle Director \nContact Phone: 321-236-6977 \nWebsite: https://bridgeseniorliving.com/community/somerby-lake-nona/ \nShare this:\n				Share on Facebook (Opens in new window)\n				Facebook\n			\n				Share on LinkedIn (Opens in new window)\n				LinkedIn\n			\n				Share on Pinterest (Opens in new window)\n				Pinterest\n			\n				Email a link to a friend (Opens in new window)\n				Email\n			Like this:Like Loading...
URL:https://nonahoodnews.com/event/dementia-caregiver-support-book-signing-mary-ann-drummond/
LOCATION:Somerby Lake Nona\, 9682 Lake Nona Village Place\, Orlando\, FL\, 32827\, United States
END:VEVENT
END:VCALENDAR