BEGIN:VCALENDAR
VERSION:2.0
PRODID:-//Nonahood News - ECPv6.6.0.2//NONSGML v1.0//EN
CALSCALE:GREGORIAN
METHOD:PUBLISH
X-ORIGINAL-URL:https://nonahoodnews.com
X-WR-CALDESC:Events for Nonahood News
REFRESH-INTERVAL;VALUE=DURATION:PT1H
X-Robots-Tag:noindex
X-PUBLISHED-TTL:PT1H
BEGIN:VTIMEZONE
TZID:America/New_York
BEGIN:DAYLIGHT
TZOFFSETFROM:-0500
TZOFFSETTO:-0400
TZNAME:EDT
DTSTART:20220313T070000
END:DAYLIGHT
BEGIN:STANDARD
TZOFFSETFROM:-0400
TZOFFSETTO:-0500
TZNAME:EST
DTSTART:20221106T060000
END:STANDARD
END:VTIMEZONE
BEGIN:VEVENT
DTSTART;TZID=America/New_York:20220924T120000
DTEND;TZID=America/New_York:20220924T180000
DTSTAMP:20260425T131941
CREATED:20220920T210046Z
LAST-MODIFIED:20220920T210326Z
UID:50931-1664020800-1664042400@nonahoodnews.com
SUMMARY:Ribbon Cutting & Grand Opening of The Cake Cottage
DESCRIPTION:Join us for exclusive opening day deals! \nShare this:\n				Share on Facebook (Opens in new window)\n				Facebook\n			\n				Share on LinkedIn (Opens in new window)\n				LinkedIn\n			\n				Share on Pinterest (Opens in new window)\n				Pinterest\n			\n				Email a link to a friend (Opens in new window)\n				Email\n			Like this:Like Loading...
URL:https://nonahoodnews.com/event/grand-opening-cake-cottage/
LOCATION:The Cake Cottage\, 1360 S Narcoossee Rd\, St. Cloud\, FL\, 34771\, United States
ATTACH;FMTTYPE=image/jpeg:https://nonahoodnews.com/wp-content/uploads/2022/09/305943598_775985303611723_681087597066044939_n.jpg
END:VEVENT
END:VCALENDAR