BEGIN:VCALENDAR
VERSION:2.0
PRODID:-//Nonahood News - ECPv6.6.0.2//NONSGML v1.0//EN
CALSCALE:GREGORIAN
METHOD:PUBLISH
X-WR-CALNAME:Nonahood News
X-ORIGINAL-URL:https://nonahoodnews.com
X-WR-CALDESC:Events for Nonahood News
REFRESH-INTERVAL;VALUE=DURATION:PT1H
X-Robots-Tag:noindex
X-PUBLISHED-TTL:PT1H
BEGIN:VTIMEZONE
TZID:America/New_York
BEGIN:DAYLIGHT
TZOFFSETFROM:-0500
TZOFFSETTO:-0400
TZNAME:EDT
DTSTART:20220313T070000
END:DAYLIGHT
BEGIN:STANDARD
TZOFFSETFROM:-0400
TZOFFSETTO:-0500
TZNAME:EST
DTSTART:20221106T060000
END:STANDARD
END:VTIMEZONE
BEGIN:VEVENT
DTSTART;TZID=America/New_York:20220516T090000
DTEND;TZID=America/New_York:20220516T170000
DTSTAMP:20260419T082233
CREATED:20220502T142205Z
LAST-MODIFIED:20220502T142205Z
UID:49420-1652691600-1652720400@nonahoodnews.com
SUMMARY:"Driving Impact" Celebrity Golf Classic
DESCRIPTION:Florida Citrus Sports will host the inaugural “Driving Impact” Celebrity Golf Classic at the Lake Nona Golf & Country Club in Orlando May 15-16\, 2022. The tournament benefits the work of Lift Orlando.\nFormat:\nOne celebrity will be paired with four golfers to compete in an 18-hole “shamble”\nLocation:\nLake Nona Golf and Country Club\nTraveling guests can take advantage of a room block at the Lake Nona Wave Hotel for a rate of $209/night. Booking information will be provided upon registration.\nSchedule:\nSunday\, May 15\, 6:00 – 9:00 p.m.\nVIP Welcome & Pairing Party at Lake Nona Wave Hotel\n6100 Wave Hotel Drive\, Orlando\, FL 32827\nMonday\, May 16\, 9:00 a.m. registration\, 10:00 a.m. shotgun start\nGolf at Lake Nona Golf & Country Club\n9100 Chiltern Drive\, Orlando\, FL 32827\nTo sign up for this event\, please fill out our registration form at https://floridacitrussports.com/driving-impact-registration\nShare this:\n				Share on Facebook (Opens in new window)\n				Facebook\n			\n				Share on LinkedIn (Opens in new window)\n				LinkedIn\n			\n				Share on Pinterest (Opens in new window)\n				Pinterest\n			\n				Email a link to a friend (Opens in new window)\n				Email\n			Like this:Like Loading...
URL:https://nonahoodnews.com/event/driving-impact-celebrity-golf-classic/
LOCATION:Lake Nona Golf and Country Club\, 9100 Chiltern Dr.\, Orlando\, FL\, 32827\, United States
ATTACH;FMTTYPE=image/jpeg:https://nonahoodnews.com/wp-content/uploads/2022/05/driving.jpg
END:VEVENT
END:VCALENDAR