BEGIN:VCALENDAR
VERSION:2.0
PRODID:-//Nonahood News - ECPv6.6.0.2//NONSGML v1.0//EN
CALSCALE:GREGORIAN
METHOD:PUBLISH
X-ORIGINAL-URL:https://nonahoodnews.com
X-WR-CALDESC:Events for Nonahood News
REFRESH-INTERVAL;VALUE=DURATION:PT1H
X-Robots-Tag:noindex
X-PUBLISHED-TTL:PT1H
BEGIN:VTIMEZONE
TZID:America/New_York
BEGIN:DAYLIGHT
TZOFFSETFROM:-0500
TZOFFSETTO:-0400
TZNAME:EDT
DTSTART:20220313T070000
END:DAYLIGHT
BEGIN:STANDARD
TZOFFSETFROM:-0400
TZOFFSETTO:-0500
TZNAME:EST
DTSTART:20221106T060000
END:STANDARD
END:VTIMEZONE
BEGIN:VEVENT
DTSTART;TZID=America/New_York:20220401T070000
DTEND;TZID=America/New_York:20220401T140000
DTSTAMP:20260419T172148
CREATED:20220331T131536Z
LAST-MODIFIED:20220331T131536Z
UID:48932-1648796400-1648821600@nonahoodnews.com
SUMMARY:Member Event: 1st Annual Neighbors Helping Neighbors Charity Event
DESCRIPTION:Five Star Neighbors United Foundation\, a Non-Profit Organization by Five Star Claims Adjusting\, announces it’s First Annual Golf Charity event. \n1st Annual Neighbors Helping Neighbors Golf Tournament benefitting the kids from First Tee – Central Florida and Nona Soccer Cares Foundation. \nFirst Tee – Central Florida\, a youth development organization that enables kids to build the strength of character that empowers them through a lifetime of new challenges. \nNona Soccer Cares Foundation of Nona Soccer Academy\, accomodates all children by providing all-inclusive\, innovative soccer programs expanding the capacity to give back into the community\, and regularly enhancing the practice locations ensuring quality and safety at all times. \nThe Neighbors Helping Neighbors Golf Tournament will attract 144 golfers. \nShare this:\n				Share on Facebook (Opens in new window)\n				Facebook\n			\n				Share on LinkedIn (Opens in new window)\n				LinkedIn\n			\n				Share on Pinterest (Opens in new window)\n				Pinterest\n			\n				Email a link to a friend (Opens in new window)\n				Email\n			Like this:Like Loading...
URL:https://nonahoodnews.com/event/member-event-1st-annual-neighbors-helping-neighbors-charity-event/
LOCATION:Eagle Creek Golf Club\, 10350 Emerson Lake Blvd\, Orlando\, FL\, 32832\, United States
ATTACH;FMTTYPE=image/png:https://nonahoodnews.com/wp-content/uploads/2022/03/Member-Event.png
END:VEVENT
BEGIN:VEVENT
DTSTART;TZID=America/New_York:20220401T080000
DTEND;TZID=America/New_York:20220401T083000
DTSTAMP:20260419T172148
CREATED:20220331T131727Z
LAST-MODIFIED:20220331T131727Z
UID:48935-1648800000-1648801800@nonahoodnews.com
SUMMARY:Ribbon Cutting for Nona Soccer Cares Foundation
DESCRIPTION:JOIN US AS WE CUT THE RIBBON FOR\nNONA SOCCER CARES FOUNDATION AT 8:10 AM!\nFIVE STAR ADJUSTING GOLF TOURNAMENT FUNDRAISER FOR NONA SOCCER CARES FOUNDATION \nShare this:\n				Share on Facebook (Opens in new window)\n				Facebook\n			\n				Share on LinkedIn (Opens in new window)\n				LinkedIn\n			\n				Share on Pinterest (Opens in new window)\n				Pinterest\n			\n				Email a link to a friend (Opens in new window)\n				Email\n			Like this:Like Loading...
URL:https://nonahoodnews.com/event/ribbon-cutting-nona-soccer-cares-foundation/
LOCATION:Eagle Creek Golf Club\, 10350 Emerson Lake Blvd\, Orlando\, FL\, 32832\, United States
ATTACH;FMTTYPE=image/png:https://nonahoodnews.com/wp-content/uploads/2022/03/Ribbon-Cuttings-1.png
END:VEVENT
BEGIN:VEVENT
DTSTART;TZID=America/New_York:20220401T180000
DTEND;TZID=America/New_York:20220401T210000
DTSTAMP:20260419T172148
CREATED:20220106T210105Z
LAST-MODIFIED:20220331T130404Z
UID:47786-1648836000-1648846800@nonahoodnews.com
SUMMARY:Art After Dark
DESCRIPTION:Join us every Friday as Art After Dark takes over Lake Nona Town Center.\n\nPerfectly nestled between Chroma Modern Bar + Kitchen and Bosphorous Turkish Cuisine of Lake Nona\, Art After Dark is a perfect evening out for the whole family.\n\nEnjoy a stroll through our Town Center as you explore hand crafted artisan products\, and tasty cuisine.\nBe sure to grab a glass a wine\, stay a while to enjoy the art displayed on our six story art installation\, The Beacon.\nThis three hour event kicks off at 6 PM and is open to the public.\nShare this:\n				Share on Facebook (Opens in new window)\n				Facebook\n			\n				Share on LinkedIn (Opens in new window)\n				LinkedIn\n			\n				Share on Pinterest (Opens in new window)\n				Pinterest\n			\n				Email a link to a friend (Opens in new window)\n				Email\n			Like this:Like Loading...
URL:https://nonahoodnews.com/event/art-after-dark-14/
LOCATION:Lake Nona Town Center\, 6900 Tavistock Lakes Blvd\, Orlando\, FL\, 32827\, United States
ATTACH;FMTTYPE=image/jpeg:https://nonahoodnews.com/wp-content/uploads/2022/01/271281113_4157192511047796_8045085395710699958_n.jpeg
END:VEVENT
BEGIN:VEVENT
DTSTART;TZID=America/New_York:20220401T190000
DTEND;TZID=America/New_York:20220401T210000
DTSTAMP:20260419T172148
CREATED:20220311T194141Z
LAST-MODIFIED:20220311T194141Z
UID:48792-1648839600-1648846800@nonahoodnews.com
SUMMARY:Back to Nature Wildlife Refuge: Wine for Wildlife
DESCRIPTION:Bring the tasting room to your living room\, grab your glass and join BTN for a virtual wine tasting event from the comfort of your home! \nTickets on sale until March 18th! \nFor inquiries\, contact: loricunniff1@gmail.com \n  \nShare this:\n				Share on Facebook (Opens in new window)\n				Facebook\n			\n				Share on LinkedIn (Opens in new window)\n				LinkedIn\n			\n				Share on Pinterest (Opens in new window)\n				Pinterest\n			\n				Email a link to a friend (Opens in new window)\n				Email\n			Like this:Like Loading...
URL:https://nonahoodnews.com/event/back-nature-wildlife-refuge-wine-wildlife/
ATTACH;FMTTYPE=image/jpeg:https://nonahoodnews.com/wp-content/uploads/2022/03/Wine-for-Wildlife.jpg
END:VEVENT
END:VCALENDAR