BEGIN:VCALENDAR
VERSION:2.0
PRODID:-//Nonahood News - ECPv6.6.0.2//NONSGML v1.0//EN
CALSCALE:GREGORIAN
METHOD:PUBLISH
X-ORIGINAL-URL:https://nonahoodnews.com
X-WR-CALDESC:Events for Nonahood News
REFRESH-INTERVAL;VALUE=DURATION:PT1H
X-Robots-Tag:noindex
X-PUBLISHED-TTL:PT1H
BEGIN:VTIMEZONE
TZID:America/New_York
BEGIN:DAYLIGHT
TZOFFSETFROM:-0500
TZOFFSETTO:-0400
TZNAME:EDT
DTSTART:20220313T070000
END:DAYLIGHT
BEGIN:STANDARD
TZOFFSETFROM:-0400
TZOFFSETTO:-0500
TZNAME:EST
DTSTART:20221106T060000
END:STANDARD
END:VTIMEZONE
BEGIN:VEVENT
DTSTART;TZID=America/New_York:20220327T070000
DTEND;TZID=America/New_York:20220327T150000
DTSTAMP:20260419T202918
CREATED:20220322T134357Z
LAST-MODIFIED:20220322T134357Z
UID:48849-1648364400-1648393200@nonahoodnews.com
SUMMARY:The ADA Tour de Cure
DESCRIPTION:The ADA’s Tour de Cure will take place in Lake Nona Town Center\, on Sunday\, March 27. Tour de Cure is the American Diabetes Association’s signature cycling event designed to support being active while raising funds to support their mission: To prevent and cure diabetes and to improve the lives of all people affected by the disease. During the race\, Tavistock Lake Blvd in Town Center will be closed. Please use the Veterans Way entrance to access the parking garages during this time. Want to join the cause? There’s still time to register! Click the link below to learn how to participate.\n  \nhttps://donations.diabetes.org/site/TR/TourdeCure/TourAdmin?fr_id=13397&pg=entry&mc_cid=2abd3c9739&mc_eid=5804a9867e \nShare this:\n				Share on Facebook (Opens in new window)\n				Facebook\n			\n				Share on LinkedIn (Opens in new window)\n				LinkedIn\n			\n				Share on Pinterest (Opens in new window)\n				Pinterest\n			\n				Email a link to a friend (Opens in new window)\n				Email\n			Like this:Like Loading...
URL:https://nonahoodnews.com/event/ada-tour-de-cure/
LOCATION:Lake Nona Town Center\, Orlando\, FL\, United States
ATTACH;FMTTYPE=image/png:https://nonahoodnews.com/wp-content/uploads/2022/03/37f145c1-694f-6ed1-df65-6e582beb2c34.png
END:VEVENT
END:VCALENDAR