BEGIN:VCALENDAR
VERSION:2.0
PRODID:-//Nonahood News - ECPv6.6.0.2//NONSGML v1.0//EN
CALSCALE:GREGORIAN
METHOD:PUBLISH
X-WR-CALNAME:Nonahood News
X-ORIGINAL-URL:https://nonahoodnews.com
X-WR-CALDESC:Events for Nonahood News
REFRESH-INTERVAL;VALUE=DURATION:PT1H
X-Robots-Tag:noindex
X-PUBLISHED-TTL:PT1H
BEGIN:VTIMEZONE
TZID:America/New_York
BEGIN:DAYLIGHT
TZOFFSETFROM:-0500
TZOFFSETTO:-0400
TZNAME:EDT
DTSTART:20220313T070000
END:DAYLIGHT
BEGIN:STANDARD
TZOFFSETFROM:-0400
TZOFFSETTO:-0500
TZNAME:EST
DTSTART:20221106T060000
END:STANDARD
END:VTIMEZONE
BEGIN:VEVENT
DTSTART;TZID=America/New_York:20220323T120000
DTEND;TZID=America/New_York:20220323T130000
DTSTAMP:20260419T160821
CREATED:20220302T014714Z
LAST-MODIFIED:20220302T014714Z
UID:48401-1648036800-1648040400@nonahoodnews.com
SUMMARY:Ribbon Cutting & Grand Opening Five Star Claims Adjusting
DESCRIPTION:Join us as we welcome Five Star Claims Adjusting new office! \nShare this:\n				Share on Facebook (Opens in new window)\n				Facebook\n			\n				Share on LinkedIn (Opens in new window)\n				LinkedIn\n			\n				Share on Pinterest (Opens in new window)\n				Pinterest\n			\n				Email a link to a friend (Opens in new window)\n				Email\n			Like this:Like Loading...
URL:https://nonahoodnews.com/event/ribbon-cutting-grand-opening-five-star-claims-adjusting/
ATTACH;FMTTYPE=image/png:https://nonahoodnews.com/wp-content/uploads/2022/03/Ribbon-Cuttings.png
END:VEVENT
END:VCALENDAR