BEGIN:VCALENDAR
VERSION:2.0
PRODID:-//Nonahood News - ECPv6.6.0.2//NONSGML v1.0//EN
CALSCALE:GREGORIAN
METHOD:PUBLISH
X-WR-CALNAME:Nonahood News
X-ORIGINAL-URL:https://nonahoodnews.com
X-WR-CALDESC:Events for Nonahood News
REFRESH-INTERVAL;VALUE=DURATION:PT1H
X-Robots-Tag:noindex
X-PUBLISHED-TTL:PT1H
BEGIN:VTIMEZONE
TZID:America/New_York
BEGIN:DAYLIGHT
TZOFFSETFROM:-0500
TZOFFSETTO:-0400
TZNAME:EDT
DTSTART:20220313T070000
END:DAYLIGHT
BEGIN:STANDARD
TZOFFSETFROM:-0400
TZOFFSETTO:-0500
TZNAME:EST
DTSTART:20221106T060000
END:STANDARD
END:VTIMEZONE
BEGIN:VEVENT
DTSTART;TZID=America/New_York:20220320T080000
DTEND;TZID=America/New_York:20220320T090000
DTSTAMP:20260419T160810
CREATED:20220310T184353Z
LAST-MODIFIED:20220310T184353Z
UID:48784-1647763200-1647766800@nonahoodnews.com
SUMMARY:Mommy & Me: Yoga
DESCRIPTION:Join Julie Weiss from Lake Nona Performance Center for a yoga class with your little one! Tickets are $5 and include a spot for you and one child between the ages of 2 and 5.\nFor any additional child\, please purchase another ticket.\nMats are provided but we encourage you to bring your own!\nShare this:\n				Share on Facebook (Opens in new window)\n				Facebook\n			\n				Share on LinkedIn (Opens in new window)\n				LinkedIn\n			\n				Share on Pinterest (Opens in new window)\n				Pinterest\n			\n				Email a link to a friend (Opens in new window)\n				Email\n			Like this:Like Loading...
URL:https://nonahoodnews.com/event/mommy-me-yoga/
LOCATION:Dockside Lake Nona\, 13623 Sachs Avenue\, Orlando\, 32827\, United States
ATTACH;FMTTYPE=image/jpeg:https://nonahoodnews.com/wp-content/uploads/2022/03/275385108_4371605726273139_7565206833996559350_n.jpg
END:VEVENT
END:VCALENDAR