BEGIN:VCALENDAR
VERSION:2.0
PRODID:-//Nonahood News - ECPv6.6.0.2//NONSGML v1.0//EN
CALSCALE:GREGORIAN
METHOD:PUBLISH
X-ORIGINAL-URL:https://nonahoodnews.com
X-WR-CALDESC:Events for Nonahood News
REFRESH-INTERVAL;VALUE=DURATION:PT1H
X-Robots-Tag:noindex
X-PUBLISHED-TTL:PT1H
BEGIN:VTIMEZONE
TZID:America/New_York
BEGIN:DAYLIGHT
TZOFFSETFROM:-0500
TZOFFSETTO:-0400
TZNAME:EDT
DTSTART:20220313T070000
END:DAYLIGHT
BEGIN:STANDARD
TZOFFSETFROM:-0400
TZOFFSETTO:-0500
TZNAME:EST
DTSTART:20221106T060000
END:STANDARD
END:VTIMEZONE
BEGIN:VEVENT
DTSTART;TZID=America/New_York:20220317T170000
DTEND;TZID=America/New_York:20220317T220000
DTSTAMP:20260419T150618
CREATED:20220311T181406Z
LAST-MODIFIED:20220311T181406Z
UID:48789-1647536400-1647554400@nonahoodnews.com
SUMMARY:St. Patrick's Party at Boxi Park 21+
DESCRIPTION:Grab your green and celebrate St. Patrick’s Day at the Boxi Park 21+ party with Def Lepprechaun by SWITCH\, Irish dancers and food & drink specials.\nThis is a ticketed\, 21+ event. $10 in advance\, $15 at the door\nShare this:\n				Share on Facebook (Opens in new window)\n				Facebook\n			\n				Share on LinkedIn (Opens in new window)\n				LinkedIn\n			\n				Share on Pinterest (Opens in new window)\n				Pinterest\n			\n				Email a link to a friend (Opens in new window)\n				Email\n			Like this:Like Loading...
URL:https://nonahoodnews.com/event/st-patricks-party-boxi-park-21/
LOCATION:Boxi Park
ATTACH;FMTTYPE=image/jpeg:https://nonahoodnews.com/wp-content/uploads/2022/03/pattyatboxi.jpg
END:VEVENT
END:VCALENDAR