BEGIN:VCALENDAR
VERSION:2.0
PRODID:-//Nonahood News - ECPv6.6.0.2//NONSGML v1.0//EN
CALSCALE:GREGORIAN
METHOD:PUBLISH
X-ORIGINAL-URL:https://nonahoodnews.com
X-WR-CALDESC:Events for Nonahood News
REFRESH-INTERVAL;VALUE=DURATION:PT1H
X-Robots-Tag:noindex
X-PUBLISHED-TTL:PT1H
BEGIN:VTIMEZONE
TZID:America/New_York
BEGIN:DAYLIGHT
TZOFFSETFROM:-0500
TZOFFSETTO:-0400
TZNAME:EDT
DTSTART:20220313T070000
END:DAYLIGHT
BEGIN:STANDARD
TZOFFSETFROM:-0400
TZOFFSETTO:-0500
TZNAME:EST
DTSTART:20221106T060000
END:STANDARD
END:VTIMEZONE
BEGIN:VEVENT
DTSTART;TZID=America/New_York:20220308T110000
DTEND;TZID=America/New_York:20220308T120000
DTSTAMP:20260419T213054
CREATED:20220301T171713Z
LAST-MODIFIED:20220301T171713Z
UID:48387-1646737200-1646740800@nonahoodnews.com
SUMMARY:Education Committee Meeting
DESCRIPTION:This monthly meeting will be held over Zoom by Education Committee Chairwoman Hope Perez (of Bronze Partner Synovus Bank). The Education Committee will discuss current plans\, updates\, and strategies on how to better interconnect our Chamber with the local Education community. \n  \nZOOM: https://zoom.us/j/6283386799?pwd=MXg0Y1VqSWwwVTF0bUdma2JxbHMxQT09 \nShare this:\n				Share on Facebook (Opens in new window)\n				Facebook\n			\n				Share on LinkedIn (Opens in new window)\n				LinkedIn\n			\n				Share on Pinterest (Opens in new window)\n				Pinterest\n			\n				Email a link to a friend (Opens in new window)\n				Email\n			Like this:Like Loading...
URL:https://nonahoodnews.com/event/education-committee-meeting/
ATTACH;FMTTYPE=image/png:https://nonahoodnews.com/wp-content/uploads/2022/03/Committee-Meeting-Search-Icon.png
END:VEVENT
END:VCALENDAR