BEGIN:VCALENDAR
VERSION:2.0
PRODID:-//Nonahood News - ECPv6.6.0.2//NONSGML v1.0//EN
CALSCALE:GREGORIAN
METHOD:PUBLISH
X-WR-CALNAME:Nonahood News
X-ORIGINAL-URL:https://nonahoodnews.com
X-WR-CALDESC:Events for Nonahood News
REFRESH-INTERVAL;VALUE=DURATION:PT1H
X-Robots-Tag:noindex
X-PUBLISHED-TTL:PT1H
BEGIN:VTIMEZONE
TZID:America/New_York
BEGIN:DAYLIGHT
TZOFFSETFROM:-0500
TZOFFSETTO:-0400
TZNAME:EDT
DTSTART:20220313T070000
END:DAYLIGHT
BEGIN:STANDARD
TZOFFSETFROM:-0400
TZOFFSETTO:-0500
TZNAME:EST
DTSTART:20221106T060000
END:STANDARD
END:VTIMEZONE
BEGIN:VEVENT
DTSTART;TZID=America/New_York:20220302T180000
DTEND;TZID=America/New_York:20220302T190000
DTSTAMP:20260419T142509
CREATED:20220301T163857Z
LAST-MODIFIED:20220301T163857Z
UID:48378-1646244000-1646247600@nonahoodnews.com
SUMMARY:Member Event: Healthiest YOU in 2022: Session 2
DESCRIPTION:In this session of Healthiest YOU in 2022\, we are discussing matters of the heart – the power of positive relationships! We will briefly review the research about positive social interactions and our well-being\, discuss the barriers to positive social connection\, and participate in a reflection activity to enhance our relationships. This event is open to anyone and everyone! You do not have to be a member of LNPC. \nShare this:\n				Share on Facebook (Opens in new window)\n				Facebook\n			\n				Share on LinkedIn (Opens in new window)\n				LinkedIn\n			\n				Share on Pinterest (Opens in new window)\n				Pinterest\n			\n				Email a link to a friend (Opens in new window)\n				Email\n			Like this:Like Loading...
URL:https://nonahoodnews.com/event/member-event-healthiest-2022-session-2/
ATTACH;FMTTYPE=image/png:https://nonahoodnews.com/wp-content/uploads/2022/03/Healthiest_YOU_in_2022_Social_Post.png
END:VEVENT
BEGIN:VEVENT
DTSTART;TZID=America/New_York:20220302T191000
DTEND;TZID=America/New_York:20220302T201000
DTSTAMP:20260419T142509
CREATED:20220202T173230Z
LAST-MODIFIED:20221103T154135Z
UID:48101-1646248200-1646251800@nonahoodnews.com
SUMMARY:Sunlight Yoga-Dockside Lake Nona
DESCRIPTION:Classes will be offered at 6 PM and 7 PM on Monday & Wednesday evening.\n\nClasses are free for all to attend. \n\nShare this:\n				Share on Facebook (Opens in new window)\n				Facebook\n			\n				Share on LinkedIn (Opens in new window)\n				LinkedIn\n			\n				Share on Pinterest (Opens in new window)\n				Pinterest\n			\n				Email a link to a friend (Opens in new window)\n				Email\n			Like this:Like Loading...
URL:https://nonahoodnews.com/event/sunlight-yoga-dockside-lake-nona-3/
LOCATION:Dockside Lake Nona\, 13623 Sachs Avenue\, Orlando\, 32827\, United States
ATTACH;FMTTYPE=image/jpeg:https://nonahoodnews.com/wp-content/uploads/2022/02/Sunlight-Yoga.jpg
END:VEVENT
END:VCALENDAR