BEGIN:VCALENDAR
VERSION:2.0
PRODID:-//Nonahood News - ECPv6.6.0.2//NONSGML v1.0//EN
CALSCALE:GREGORIAN
METHOD:PUBLISH
X-ORIGINAL-URL:https://nonahoodnews.com
X-WR-CALDESC:Events for Nonahood News
REFRESH-INTERVAL;VALUE=DURATION:PT1H
X-Robots-Tag:noindex
X-PUBLISHED-TTL:PT1H
BEGIN:VTIMEZONE
TZID:America/New_York
BEGIN:DAYLIGHT
TZOFFSETFROM:-0500
TZOFFSETTO:-0400
TZNAME:EDT
DTSTART:20200308T070000
END:DAYLIGHT
BEGIN:STANDARD
TZOFFSETFROM:-0400
TZOFFSETTO:-0500
TZNAME:EST
DTSTART:20201101T060000
END:STANDARD
END:VTIMEZONE
BEGIN:VEVENT
DTSTART;TZID=America/New_York:20201114T070000
DTEND;TZID=America/New_York:20201114T100000
DTSTAMP:20260420T094458
CREATED:20200918T142146Z
LAST-MODIFIED:20200918T142146Z
UID:42526-1605337200-1605348000@nonahoodnews.com
SUMMARY:2nd Annual Crusader Crawl 5K
DESCRIPTION:Welcome to the St. Thomas Aquinas Catholic School 2nd Annual Crusader Crawl 5K Run/Walk. We are excited you will be joining us!\nDue to COVID-19\, we have made the difficult decision to hold this event virtually for 2020. We had so much fun running and walking as a community last year in our 1st Annual 5K\, but look forward to seeing everyone’s photos of completing the race virtually! What a better way to get out of the house\, get some exercise and support our school!\nWe are a Nonprofit Organization and all funds raised will go towards our Scholarship Fund providing tuition assistance for families in need to attend our school.\nRegistration cost includes a race entry and a race t-shirt.\n$10- Child Entry Fee (10 year old and under)\n$20- 5K Entry Fee\nAwards:\nAwards will be given to the Top Ten Male and Top Ten Female finishers\nGeneral Information:\nThe last day for online registration is Saturday\, November 14th.\nInstructions will be announced on how to submit face finish times. Participants can participate by getting together with your running group to complete the 5K the morning of November 14th @ 8:00 am (regularly scheduled time)\, or run/walk anytime.\nRace Shirts:\nSizes guaranteed if signed up by October 14\, 2020. Race shirts will be offered in children and adult sizes.\nWe invite everyone to participate in this great race and community event!\nShare this:\n				Share on Facebook (Opens in new window)\n				Facebook\n			\n				Share on LinkedIn (Opens in new window)\n				LinkedIn\n			\n				Share on Pinterest (Opens in new window)\n				Pinterest\n			\n				Email a link to a friend (Opens in new window)\n				Email\n			Like this:Like Loading...
URL:https://nonahoodnews.com/event/2nd-annual-crusader-crawl-5k/
LOCATION:Virtual\, United States
ATTACH;FMTTYPE=image/jpeg:https://nonahoodnews.com/wp-content/uploads/2020/09/119748098_2897311660369625_5163366894642850843_o.jpg
ORGANIZER;CN="St. Thomas Aquinas Catholic School":MAILTO:npavgouzas@stacschool.com
END:VEVENT
END:VCALENDAR