BEGIN:VCALENDAR
VERSION:2.0
PRODID:-//Nonahood News - ECPv6.6.0.2//NONSGML v1.0//EN
CALSCALE:GREGORIAN
METHOD:PUBLISH
X-ORIGINAL-URL:https://nonahoodnews.com
X-WR-CALDESC:Events for Nonahood News
REFRESH-INTERVAL;VALUE=DURATION:PT1H
X-Robots-Tag:noindex
X-PUBLISHED-TTL:PT1H
BEGIN:VTIMEZONE
TZID:America/New_York
BEGIN:DAYLIGHT
TZOFFSETFROM:-0500
TZOFFSETTO:-0400
TZNAME:EDT
DTSTART:20200308T070000
END:DAYLIGHT
BEGIN:STANDARD
TZOFFSETFROM:-0400
TZOFFSETTO:-0500
TZNAME:EST
DTSTART:20201101T060000
END:STANDARD
END:VTIMEZONE
BEGIN:VEVENT
DTSTART;TZID=America/New_York:20200910T080000
DTEND;TZID=America/New_York:20200910T170000
DTSTAMP:20260424T040513
CREATED:20200902T205454Z
LAST-MODIFIED:20200902T205454Z
UID:42397-1599724800-1599757200@nonahoodnews.com
SUMMARY:Breakfast Connections with Craig Collin\, Chief Operating Officer\, Tavistock Development
DESCRIPTION:Virtual via Zoom. Please complete your registration to receive the Zoom link in your confirmation email. \nJoin us for a Lake Nona update and a recap of recent announcements like SIMCOM and the Lake Nona Performance Club. \nShare this:\n				Share on Facebook (Opens in new window)\n				Facebook\n			\n				Share on LinkedIn (Opens in new window)\n				LinkedIn\n			\n				Share on Pinterest (Opens in new window)\n				Pinterest\n			\n				Email a link to a friend (Opens in new window)\n				Email\n			Like this:Like Loading...
URL:https://nonahoodnews.com/event/breakfast-connections-craig-collin-chief-operating-officer-tavistock-development/
LOCATION:Virtual\, United States
END:VEVENT
END:VCALENDAR