BEGIN:VCALENDAR
VERSION:2.0
PRODID:-//Nonahood News - ECPv6.6.0.2//NONSGML v1.0//EN
CALSCALE:GREGORIAN
METHOD:PUBLISH
X-ORIGINAL-URL:https://nonahoodnews.com
X-WR-CALDESC:Events for Nonahood News
REFRESH-INTERVAL;VALUE=DURATION:PT1H
X-Robots-Tag:noindex
X-PUBLISHED-TTL:PT1H
BEGIN:VTIMEZONE
TZID:America/New_York
BEGIN:DAYLIGHT
TZOFFSETFROM:-0500
TZOFFSETTO:-0400
TZNAME:EDT
DTSTART:20190310T070000
END:DAYLIGHT
BEGIN:STANDARD
TZOFFSETFROM:-0400
TZOFFSETTO:-0500
TZNAME:EST
DTSTART:20191103T060000
END:STANDARD
END:VTIMEZONE
BEGIN:VEVENT
DTSTART;TZID=America/New_York:20190704T110000
DTEND;TZID=America/New_York:20190707T210000
DTSTAMP:20260422T100105
CREATED:20190703T163222Z
LAST-MODIFIED:20190703T163222Z
UID:34478-1562238000-1562533200@nonahoodnews.com
SUMMARY:Boxi Park's 4th of July Party Weekend
DESCRIPTION:We’re celebrating Independence Day all weekend and we’re starting early! Come see us to begin the celebrations at 11AM on Thursday\, July 4th! \nFeaturing a Zambelli Fireworks show on Saturday\, July 6 at 9PM!!! \n***ALL WEEKEND FESTIVITIES***\nBBQ COOKOUT WITH RIBS\, HOT DOGS\, STREET CORN & MORE\nFOOD & DRINK SPECIALS\nLIVE MUSIC\nKIDS ACTIVITIES \nWeekend Opening Hours:\nThursday – 11AM\nFriday – 4PM\nSaturday – 11AM\nSunday – 11AM \nEntertainment Lineup:\nThursday – 1PM – The Midnight Ramblers\nThursday – 6PM – Audio Exchange\nFriday – 7PM – Dj Richie Rich\nSaturday – 11AM – Jason and Billy / Billy and Jason\nSaturday – 3PM – Giddy Up Go\nSaturday – 7PM – LUVU\nSunday – 11AM – Matheus Duarte\nSunday – 5:30PM – SPEED LIMIT 70Bi \nShare this:\n				Share on Facebook (Opens in new window)\n				Facebook\n			\n				Share on LinkedIn (Opens in new window)\n				LinkedIn\n			\n				Share on Pinterest (Opens in new window)\n				Pinterest\n			\n				Email a link to a friend (Opens in new window)\n				Email\n			Like this:Like Loading...
URL:https://nonahoodnews.com/event/boxi-parks-4th-july-party-weekend/
LOCATION:Boxi Park
ATTACH;FMTTYPE=image/jpeg:https://nonahoodnews.com/wp-content/uploads/2019/07/62238246_2372831926296659_7451159403996119040_o.jpg
END:VEVENT
END:VCALENDAR