BEGIN:VCALENDAR
VERSION:2.0
PRODID:-//Nonahood News - ECPv6.6.0.2//NONSGML v1.0//EN
CALSCALE:GREGORIAN
METHOD:PUBLISH
X-WR-CALNAME:Nonahood News
X-ORIGINAL-URL:https://nonahoodnews.com
X-WR-CALDESC:Events for Nonahood News
REFRESH-INTERVAL;VALUE=DURATION:PT1H
X-Robots-Tag:noindex
X-PUBLISHED-TTL:PT1H
BEGIN:VTIMEZONE
TZID:America/New_York
BEGIN:DAYLIGHT
TZOFFSETFROM:-0500
TZOFFSETTO:-0400
TZNAME:EDT
DTSTART:20190310T070000
END:DAYLIGHT
BEGIN:STANDARD
TZOFFSETFROM:-0400
TZOFFSETTO:-0500
TZNAME:EST
DTSTART:20191103T060000
END:STANDARD
END:VTIMEZONE
BEGIN:VEVENT
DTSTART;TZID=America/New_York:20190601T110000
DTEND;TZID=America/New_York:20190630T220000
DTSTAMP:20260422T095915
CREATED:20190606T133516Z
LAST-MODIFIED:20190620T195514Z
UID:34029-1559386800-1561932000@nonahoodnews.com
SUMMARY:Orlando's Bite30 @ Canvas & Chroma
DESCRIPTION:Bite30 is Orlando’s 30-Day Restaurant Week\, featuring the best local restaurants and chefs driving Orlando’s culinary scene.\nFrom June 1-30\, participating restaurants offer special prix fixe menus that offer multi-course dinners at a set price ($30 for dinner). \nDiners get the opportunity to try multiple dishes on the restaurant’s menu for about the cost of a single entree\, and restaurants get to showcase their specialty dishes to the new customers attracted by the Bite30 menu! Restaurant-hop through the City Beautiful\, experience delicious food\, service and ambiance of the restaurants you really should know about. \nCheck out our local Lake Nona restaurants Chroma and Canvas to participate in Bite30. \nShare this:\n				Share on Facebook (Opens in new window)\n				Facebook\n			\n				Share on LinkedIn (Opens in new window)\n				LinkedIn\n			\n				Share on Pinterest (Opens in new window)\n				Pinterest\n			\n				Email a link to a friend (Opens in new window)\n				Email\n			Like this:Like Loading...
URL:https://nonahoodnews.com/event/34029/
LOCATION:Canvas Restaurant & Market\, 13615 Sachs Avenue\, Orlando\, FL\, 32827\, United States
ATTACH;FMTTYPE=image/jpeg:https://nonahoodnews.com/wp-content/uploads/2019/06/16865203_1442170315817081_5375466158364572369_n.jpg
END:VEVENT
BEGIN:VEVENT
DTSTART;TZID=America/New_York:20190613T160000
DTEND;TZID=America/New_York:20190616T210000
DTSTAMP:20260422T095915
CREATED:20190612T172135Z
LAST-MODIFIED:20190612T172135Z
UID:34118-1560441600-1560718800@nonahoodnews.com
SUMMARY:Boxi Park Father's Day Weekend Food\, Drinks\, Music & Outdoor Fun
DESCRIPTION:Boxi Park kicks off Father’s Day weekend this Thursday. Come out to celebrate Dad and experience Boxi food\, drinks\, music\, fun\, hospitality and fresh air at our outdoor park. Opening this Thursday & Friday at 4 P.M.\, Saturday & Sunday at 11 A.M. and open late all weekend. \nWeekend entertainment:\nThursday\n7PM – Stereo FM \nFriday\n7PM – DJ ET \nSaturday\n11AM – Matheus Duarte\n7PM – Chasing Amy \nSunday\n12PM – Florida Turnpike\n5PM – The Rollables \nShare this:\n				Share on Facebook (Opens in new window)\n				Facebook\n			\n				Share on LinkedIn (Opens in new window)\n				LinkedIn\n			\n				Share on Pinterest (Opens in new window)\n				Pinterest\n			\n				Email a link to a friend (Opens in new window)\n				Email\n			Like this:Like Loading...
URL:https://nonahoodnews.com/event/boxi-park-fathers-day-weekend-food-drinks-music-outdoor-fun/
LOCATION:Boxi Park
ATTACH;FMTTYPE=image/jpeg:https://nonahoodnews.com/wp-content/uploads/2019/06/62204346_2360158614230657_2345477044730593280_n.jpg
END:VEVENT
BEGIN:VEVENT
DTSTART;TZID=America/New_York:20190616T090000
DTEND;TZID=America/New_York:20190616T110000
DTSTAMP:20260422T095915
CREATED:20190612T172330Z
LAST-MODIFIED:20190612T172330Z
UID:34120-1560675600-1560682800@nonahoodnews.com
SUMMARY:Donuts for Dad provided by The Donut King
DESCRIPTION:What could be better than breakfast in bed? Donuts with your friends\, family and neighbors! Meet us at the Lakehhouse to enjoy a breakfast provided by The Donut King to celebrate all our dads and families. \n***Please note: the location of this event has changed from Crescent Park to the Lakehouse located at 13623 Sachs Ave. next to Canvas Restaurant. \nShare this:\n				Share on Facebook (Opens in new window)\n				Facebook\n			\n				Share on LinkedIn (Opens in new window)\n				LinkedIn\n			\n				Share on Pinterest (Opens in new window)\n				Pinterest\n			\n				Email a link to a friend (Opens in new window)\n				Email\n			Like this:Like Loading...
URL:https://nonahoodnews.com/event/donuts-dad-provided-donut-king/
LOCATION:Lakehouse\, 13623 Sachs Ave\, Orlando\, FL\, 32827\, United States
ATTACH;FMTTYPE=image/jpeg:https://nonahoodnews.com/wp-content/uploads/2019/06/62471595_1861940073906396_5452916738431647744_n.jpg
END:VEVENT
BEGIN:VEVENT
DTSTART;TZID=America/New_York:20190616T120000
DTEND;TZID=America/New_York:20190616T180000
DTSTAMP:20260422T095915
CREATED:20190603T170701Z
LAST-MODIFIED:20190603T170701Z
UID:33694-1560686400-1560708000@nonahoodnews.com
SUMMARY:Father's Day Picnic Buffet at Rosen Centre
DESCRIPTION:Dad and the family can have a traditional cook-out without all the work at the Rosen Centre’s Father’s Day Picnic Buffet this Father’s Day. He’ll enjoy sharing favorite foods and relaxing with the crew in the Florida sunshine at Harry’s Poolside Bar & Grill\, surrounded by the tropical ambiance of the palm tree-lined hotel pool. Dads and their guests will enjoy spiced shrimp boil\, smoked island tropical chicken\, Harry’s smoked spare ribs\, and Harry’s Mancave Dessert Station. Each dad also will receive one complimentary craft beer with his paid meal. Treat him like a king and reserve a spot for dad and the family today! \nShare this:\n				Share on Facebook (Opens in new window)\n				Facebook\n			\n				Share on LinkedIn (Opens in new window)\n				LinkedIn\n			\n				Share on Pinterest (Opens in new window)\n				Pinterest\n			\n				Email a link to a friend (Opens in new window)\n				Email\n			Like this:Like Loading...
URL:https://nonahoodnews.com/event/fathers-day-picnic-buffet-rosen-centre/
LOCATION:Rosen Centre\, 9840 International Dr\, Orlando\, FL\, 32819\, United States
ORGANIZER;CN="Rosen Centre":MAILTO:sales@rosencentre.com
END:VEVENT
BEGIN:VEVENT
DTSTART;TZID=America/New_York:20190616T170000
DTEND;TZID=America/New_York:20190616T220000
DTSTAMP:20260422T095915
CREATED:20190603T173601Z
LAST-MODIFIED:20190603T173601Z
UID:33695-1560704400-1560722400@nonahoodnews.com
SUMMARY:Dads and Little Ones Dine Free at Rosen Plaza's Jack's Place
DESCRIPTION:Celebrate dad with a free entrée on his special day at Jack’s Place restaurant\, featuring the world’s most extensive collection of autographed celebrity caricatures. Plus\, with the purchase an adult entree\, two children will enjoy a complimentary meal each from the Kids Menu at Jack’s Place. Enjoy delicious food and extraordinary service at Rosen Plaza’s fine dining restaurant\, a treat for the entire family. For reservations\, visit RosenPlaza.com/FathersDay. \nShare this:\n				Share on Facebook (Opens in new window)\n				Facebook\n			\n				Share on LinkedIn (Opens in new window)\n				LinkedIn\n			\n				Share on Pinterest (Opens in new window)\n				Pinterest\n			\n				Email a link to a friend (Opens in new window)\n				Email\n			Like this:Like Loading...
URL:https://nonahoodnews.com/event/dads-little-ones-dine-free-rosen-plazas-jacks-place/
LOCATION:Rosen Plaza\, 9700 International Dr.\, Orlando\, FL 32819\, FL\, 32819\, United States
ORGANIZER;CN="Rosen Plaza":MAILTO:sales@rosenplaza.com
END:VEVENT
END:VCALENDAR