BEGIN:VCALENDAR
VERSION:2.0
PRODID:-//Nonahood News - ECPv6.6.0.2//NONSGML v1.0//EN
CALSCALE:GREGORIAN
METHOD:PUBLISH
X-WR-CALNAME:Nonahood News
X-ORIGINAL-URL:https://nonahoodnews.com
X-WR-CALDESC:Events for Nonahood News
REFRESH-INTERVAL;VALUE=DURATION:PT1H
X-Robots-Tag:noindex
X-PUBLISHED-TTL:PT1H
BEGIN:VTIMEZONE
TZID:America/New_York
BEGIN:DAYLIGHT
TZOFFSETFROM:-0500
TZOFFSETTO:-0400
TZNAME:EDT
DTSTART:20190310T070000
END:DAYLIGHT
BEGIN:STANDARD
TZOFFSETFROM:-0400
TZOFFSETTO:-0500
TZNAME:EST
DTSTART:20191103T060000
END:STANDARD
END:VTIMEZONE
BEGIN:VEVENT
DTSTART;VALUE=DATE:20190516
DTEND;VALUE=DATE:20190526
DTSTAMP:20260422T112838
CREATED:20190308T145208Z
LAST-MODIFIED:20190311T204158Z
UID:32272-1557964800-1558828799@nonahoodnews.com
SUMMARY:2019 NCAA Division I Men's and Women's Tennis Championships
DESCRIPTION:Experience tennis like never before at the 2019 NCAA DI Tennis Championships in Orlando\, FL. The championship will take place over ten days awarding the nation’s best with the coveted title of NCAA Champions! Share in the experience by reserving your tickets today! \nAll Sessions Pass is valid for all 10 days of competition (Team & Individual Championships) \nSecure your tickets at: https://www.ticketmaster.com/artist/2613942?_ga=2.97756255.1729030224.1551667647-805366435.1539280033 \n  \n*Team Championships* \nThursday\, May 16 -Men’s Quarterfinals Friday\, May 17 -Women’s Quarterfinals Saturday\, May 18 -Men’s & Women’s Semifinals Sunday\, May 19 -Men’s & Women’s Finals \n*Individual Championships* \nMonday\, May 20 -Men’s and Women’s Singles (First Round) \nTuesday\, May 21 -Men’s and Women’s Singles (Second Round) – Men’s and Women’s Doubles (First Round) \nWednesday\, May 22 -Men’s and Women’s Singles (Round of 16) -Men’s and Women’s Doubles (Round of 16) \nThursday\, May 23 -Men’s and Women’s Singles (Quarterfinals) -Men’s and Women’s Doubles (Quarterfinals) \nFriday\, May 24 -Men’s and Women’s Singles (Semifinals) -Men’s and Women’s Doubles (Semifinals) Saturday\, May 25 -Men’s and Women’s Singles and Doubles Final \nShare this:\n				Share on Facebook (Opens in new window)\n				Facebook\n			\n				Share on LinkedIn (Opens in new window)\n				LinkedIn\n			\n				Share on Pinterest (Opens in new window)\n				Pinterest\n			\n				Email a link to a friend (Opens in new window)\n				Email\n			Like this:Like Loading...
URL:https://nonahoodnews.com/event/2019-ncaa-division-mens-womens-tennis-championships/
LOCATION:USTA National Campus\, 10000 USTA Blvd. \, Orlando\, FL\, 32827\, United States
ATTACH;FMTTYPE=image/png:https://nonahoodnews.com/wp-content/uploads/2019/03/Screenshot-4.png
END:VEVENT
BEGIN:VEVENT
DTSTART;TZID=America/New_York:20190523T160000
DTEND;TZID=America/New_York:20190527T220000
DTSTAMP:20260422T112839
CREATED:20190516T145548Z
LAST-MODIFIED:20190516T145548Z
UID:33504-1558627200-1558994400@nonahoodnews.com
SUMMARY:Memorial Day Weekend Summer Kickoff Party with Live Band Karaoke
DESCRIPTION:Join us as we kick-off the summer all weekend long with extended hours. \nMay 23-27\nThursday 4PM\nFriday 4PM\nSaturday 11AM\nSunday 11AM\nOpen Memorial Day Monday at 11AM \nLive Music\nKids Activities\nFood & Drink Specials \nFeaturing Live Band Karaoke Saturday Night – 6 p.m. \nLive Music Lineup\nMay 23 – 7 PM Adam & Beav\nMay 24 – 7 PM DJ D-Strong\nMay 25 – 11 AM Scotty Long\nMay 25 – 6 PM Live Band Karaoke\nMay 26 – 12 PM Jason & Billy\nMay 26 – 5 PM Shay Butter Band\nMay 27 – 12 PM – R&R Duo\nMay 27 – 5 PM – Stereo FM \nShare this:\n				Share on Facebook (Opens in new window)\n				Facebook\n			\n				Share on LinkedIn (Opens in new window)\n				LinkedIn\n			\n				Share on Pinterest (Opens in new window)\n				Pinterest\n			\n				Email a link to a friend (Opens in new window)\n				Email\n			Like this:Like Loading...
URL:https://nonahoodnews.com/event/memorial-day-weekend-summer-kickoff-party-live-band-karaoke/
LOCATION:Boxi Park
ATTACH;FMTTYPE=image/jpeg:https://nonahoodnews.com/wp-content/uploads/2019/05/60026326_2336840253229160_3678190372883791872_o.jpg
END:VEVENT
BEGIN:VEVENT
DTSTART;TZID=America/New_York:20190525T090000
DTEND;TZID=America/New_York:20190525T100000
DTSTAMP:20260422T112839
CREATED:20190502T145917Z
LAST-MODIFIED:20190502T145917Z
UID:33409-1558774800-1558778400@nonahoodnews.com
SUMMARY:Nona Adventure Park Presents: Mommy & Me
DESCRIPTION:Every Saturday now through the end of May\, we’re setting aside one hour for kiddos between the ages of 5 and 8 years old to have the Aqua Park all to themselves – no big kids! \nFrom 9-10 a.m.\, this exclusive time is for Mommy (or any parent or guardian) to accompany their child(ren) on the Aqua Park obstacle course free of charge – one free adult pass with the purchase of their kid’s pass. \nPlease arrive at 8:30 a.m. for registration. \nThe Aqua Park opens to the public promptly at 10 a.m. on Saturdays\, so sure to arrive early so that you can make good use of this Mommy & Me time! \nFor Park Rules\, FAQs\, tickets and more\, visit www.NonaAdventurePark.com.\n\nShare this:\n				Share on Facebook (Opens in new window)\n				Facebook\n			\n				Share on LinkedIn (Opens in new window)\n				LinkedIn\n			\n				Share on Pinterest (Opens in new window)\n				Pinterest\n			\n				Email a link to a friend (Opens in new window)\n				Email\n			Like this:Like Loading...
URL:https://nonahoodnews.com/event/nona-adventure-park-presents-mommy-4/
LOCATION:Nona Adventure Park\, 14086 Centerline Drive\, Orlando\, Florida 32827\, Lake Nona\, 32827\, United States
ATTACH;FMTTYPE=image/jpeg:https://nonahoodnews.com/wp-content/uploads/2019/05/58460691_858878701116606_614359097046728704_o.jpg
END:VEVENT
BEGIN:VEVENT
DTSTART;TZID=America/New_York:20190525T090000
DTEND;TZID=America/New_York:20190525T100000
DTSTAMP:20260422T112839
CREATED:20190516T151313Z
LAST-MODIFIED:20190516T151313Z
UID:33518-1558774800-1558778400@nonahoodnews.com
SUMMARY:Yoga Nona sponsored by Lake Nona Life Project
DESCRIPTION:A comfortably paced community yoga class that allows time for beginners to find their poses and advanced practitioners to find their edges. Open to all ages and skill levels! \nThese hour-long classes are free and open to the public and held outdoors at Crescent Park\, so dress appropriately and bring your own mat\, towel and water. \nShare this:\n				Share on Facebook (Opens in new window)\n				Facebook\n			\n				Share on LinkedIn (Opens in new window)\n				LinkedIn\n			\n				Share on Pinterest (Opens in new window)\n				Pinterest\n			\n				Email a link to a friend (Opens in new window)\n				Email\n			Like this:Like Loading...
URL:https://nonahoodnews.com/event/yoga-nona-sponsored-lake-nona-life-project-27/
LOCATION:Crescent Park in Laureate Park\, 8374 Upper Perse Cir\, Orlando\, FL\, 32827\, United States
ATTACH;FMTTYPE=image/jpeg:https://nonahoodnews.com/wp-content/uploads/2019/05/58691932_1796920470408357_3806620649632301056_n.jpg
END:VEVENT
END:VCALENDAR